BEGIN:VCALENDAR
VERSION:2.0
PRODID:-//Oradea - ECPv5.1.1//NONSGML v1.0//EN
CALSCALE:GREGORIAN
METHOD:PUBLISH
X-WR-CALNAME:Oradea
X-ORIGINAL-URL:https://ghidlocal.com/oradea
X-WR-CALDESC:Events for Oradea
BEGIN:VTIMEZONE
TZID:Europe/Bucharest
BEGIN:DAYLIGHT
TZOFFSETFROM:+0200
TZOFFSETTO:+0300
TZNAME:EEST
DTSTART:20170326T010000
END:DAYLIGHT
BEGIN:STANDARD
TZOFFSETFROM:+0300
TZOFFSETTO:+0200
TZNAME:EET
DTSTART:20171029T010000
END:STANDARD
END:VTIMEZONE
BEGIN:VEVENT
DTSTART;TZID=Europe/Bucharest:20170920T190000
DTEND;TZID=Europe/Bucharest:20170920T210000
DTSTAMP:20260421T121125
CREATED:20170823T071556Z
LAST-MODIFIED:20170919T093043Z
UID:16008-1505934000-1505941200@ghidlocal.com
SUMMARY:Filosofie Aplicată
DESCRIPTION:O nouă sesiune a cursurilor de filosofie practică se va derula săptămânal\, în fiecare miercuri\, de la ora 19:00\, la sediul Noii Acropole Oradeai\, (Strada Republicii nr.64)\, începând cu 20 septembrie 2017. \nPrintr-o incursiune prin operele unor importanți exponenți ai filosofiei orientale și occidentale (Platon\, Aristotel\, Plotin\, Marcus Aurelius\, Confucius\, Buddha)\, cursul își propune să readucă în atenția omului contemporan valorile atemporale și autentice promovate de filosofie (gândirea liberă și conștientă\, etica individuală\, virtuțile civice)\, și modul în care acestea ne pot ajuta să ne îmbunătățim propria viață. \nComponenta interactivă a prelegerilor și formatul abordabil al acestora va asigura promovarea întâlnirii și a schimbului de idei între persoane provenite din medii sociale\, educaționale și culturale diverse\, dar precupate de a găsi răspunsuri la întrebări legate de sensul vieții\, de problemele umane\, de felul în care ar putea deveni oameni mai buni. \nPrelegerile vor accentua latura practică a filosofiei\, ca arta de a trăi frumos\, în armonie cu sine și cu ceilalți\, inspirându-ne din învățăturile și experiența valoroasă a celor care ne-au precedat. \nCursul este organizat de Asociaţia Culturală Noua Acropolă. \nDurata cursului: 14 săptămâni.  \nIntrarea este liberă pentru primele patru prezentări. \nMai multe informații și înscrieri la telefon 0755 292 542. \n
URL:https://ghidlocal.com/oradea/eveniment/filosofie-aplicata/
LOCATION:Noua Acropola Oradea\, Bv. Republicii\, nr. 64 (zona Gării)\, Oradea-Mare\, 410147\, Romania
CATEGORIES:Cultural
ATTACH;FMTTYPE=image/jpeg:https://cdn.cluj.com/ghidlocalcom/sites/2/2017/08/e715712e507cd415363930983201384c.jpg
END:VEVENT
END:VCALENDAR