BEGIN:VCALENDAR
VERSION:2.0
PRODID:-//Oradea - ECPv5.1.1//NONSGML v1.0//EN
CALSCALE:GREGORIAN
METHOD:PUBLISH
X-WR-CALNAME:Oradea
X-ORIGINAL-URL:https://ghidlocal.com/oradea
X-WR-CALDESC:Events for Oradea
BEGIN:VTIMEZONE
TZID:Europe/Bucharest
BEGIN:DAYLIGHT
TZOFFSETFROM:+0200
TZOFFSETTO:+0300
TZNAME:EEST
DTSTART:20180325T010000
END:DAYLIGHT
BEGIN:STANDARD
TZOFFSETFROM:+0300
TZOFFSETTO:+0200
TZNAME:EET
DTSTART:20181028T010000
END:STANDARD
END:VTIMEZONE
BEGIN:VEVENT
DTSTART;TZID=Europe/Bucharest:20180610T130000
DTEND;TZID=Europe/Bucharest:20180610T233000
DTSTAMP:20260425T031702
CREATED:20180531T064852Z
LAST-MODIFIED:20180531T065613Z
UID:22329-1528635600-1528673400@ghidlocal.com
SUMMARY:Festivalul Luminii - Oradea
DESCRIPTION:Festivalul Luminii – Oradea\nCe reprezintă Festivalul Luminii? \nÎn prezent\, ideea că fericirea este un lucru măreț\, în calea căruia trebuie să alergăm mereu\, a devenit tot mai populară. Prinși în agitația vieții cotidiene\, adesea uităm că lucrurile mărunte\, precum un zâmbet\, un cântec sau găsirea unui strop de lumină la finalul zilei sunt\, de fapt\, cele care contează\, cele care ne aduc bucuria sufletească.\nDin acest motiv\, încă din 2004\, Cercetașii României și-au propus ca măcar pentru câteva ore să le amintească membrilor comunității locale de bucuria lucrurilor mărunte și\, împreună cu partenerii lor\, să transforme orașele în care trăiesc într-un spațiu magic\, în care fiecare dintre noi să redevenim copii și\, indiferent de vârstă\, să descoperim lucrurile care ne fac fericiți\, să le luăm cu noi și să le ținem aproape până la următoarea ediție. \nDe ce? \nFestivalul Luminii este organizat în fiecare an în mai multe locații din România\, cu scopul de a crea un spațiu liniștit\, de deconectare a participanților de la agitația vieții de zi cu zi și de a oferi copiilor\, tinerilor și voluntarilor de toate vârstele implicați o educație non-formală prin responsabilizarea lor și dezvoltarea abilităților de organizare în cadrul unui eveniment național. \n
URL:https://ghidlocal.com/oradea/eveniment/festivalul-luminii-oradea-2/
LOCATION:Parcul Cetății Oradea\, Cetatea Oradea\, Oradea-Mare\, România
CATEGORIES:Divertisment,Festival
ATTACH;FMTTYPE=image/jpeg:https://cdn.cluj.com/ghidlocalcom/sites/2/2017/04/Festivalul-Luminii-Fotograf-%C8%98tefania-Curila.jpg
END:VEVENT
END:VCALENDAR