BEGIN:VCALENDAR
VERSION:2.0
PRODID:-//Oradea - ECPv5.1.1//NONSGML v1.0//EN
CALSCALE:GREGORIAN
METHOD:PUBLISH
X-WR-CALNAME:Oradea
X-ORIGINAL-URL:https://ghidlocal.com/oradea
X-WR-CALDESC:Events for Oradea
BEGIN:VTIMEZONE
TZID:Europe/Bucharest
BEGIN:DAYLIGHT
TZOFFSETFROM:+0200
TZOFFSETTO:+0300
TZNAME:EEST
DTSTART:20160327T010000
END:DAYLIGHT
BEGIN:STANDARD
TZOFFSETFROM:+0300
TZOFFSETTO:+0200
TZNAME:EET
DTSTART:20161030T010000
END:STANDARD
END:VTIMEZONE
BEGIN:VEVENT
DTSTART;VALUE=DATE:20160624
DTEND;VALUE=DATE:20160626
DTSTAMP:20260422T235027
CREATED:20160609T061435Z
LAST-MODIFIED:20160609T062111Z
UID:1490-1466809200-1466895599@ghidlocal.com
SUMMARY:Femeia și dezvoltarea personală
DESCRIPTION:Sunt femeie! Workshop de dezvoltare personală – așa este intitulat evenimentul ce va avea loc în data de 25 iunie\, destinat fiind exclusiv doamnelor și domnișoarelor.\nSubiectele abordate în încercarea de a vă conduce înspre dezvoltarea personală mult dorită\, vor încerca să răspundă la întrebările de mai jos\, și cel mai probabil și la altele: \n„*Ce anume mă definește ca femeie?\n*Este ceva ce îmi blochează feminitatea?\n*Cât mă cunosc?\n*Cât mă accept așa cum sunt?\n*Ce schimbări vreau în viața mea\, ca femeie\, dar mai ales cum să fac primii pași către asta?\n*Cum mă raportez la feminitate/masculinitate?„ – sursă text AICI. \nAșadar\, doamnelor și domnișoarelor sunteți așteptate în data de 25 iunie 2016\, începând cu ora 10:00\, să participați la un workshop ce s-ar putea să vă ofere o altă perspectivă asupra feminității/masculinității\, soluții și răspunsuri la întrebări abordându-se direct problema drepturilor egalității dintre sexe și reaminirea „că e nevoie să redevenim așa cum mama-natură ne-a creat.” \nTehnicile utilizate în cadrul acestei întâlniri\, vor fi: meditația\, explorarea conștientă prin intermediul desenului de mandale și utilizarea unor tehnici energetice. \nFacilitator: Iulia Cruț  \n* Înscrierile se fac la adresa de email: mirelacodila@yahoo.com \n  \n  \n
URL:https://ghidlocal.com/oradea/eveniment/femeia-si-dezvoltarea-personala/
CATEGORIES:Educatie
ATTACH;FMTTYPE=image/jpeg:https://cdn.cluj.com/ghidlocalcom/sites/2/2016/06/Sunt_femeie_workshop_de_dezvoltare_personal%C4%83_Oradea.jpg
ORGANIZER;CN="Sanando":MAILTO:uliacrut@sanando.ro
END:VEVENT
END:VCALENDAR