BEGIN:VCALENDAR
VERSION:2.0
PRODID:-//Oradea - ECPv5.1.1//NONSGML v1.0//EN
CALSCALE:GREGORIAN
METHOD:PUBLISH
X-WR-CALNAME:Oradea
X-ORIGINAL-URL:https://ghidlocal.com/oradea
X-WR-CALDESC:Events for Oradea
BEGIN:VTIMEZONE
TZID:Europe/Bucharest
BEGIN:DAYLIGHT
TZOFFSETFROM:+0200
TZOFFSETTO:+0300
TZNAME:EEST
DTSTART:20180325T010000
END:DAYLIGHT
BEGIN:STANDARD
TZOFFSETFROM:+0300
TZOFFSETTO:+0200
TZNAME:EET
DTSTART:20181028T010000
END:STANDARD
END:VTIMEZONE
BEGIN:VEVENT
DTSTART;TZID=Europe/Bucharest:20180822T180000
DTEND;TZID=Europe/Bucharest:20180822T210000
DTSTAMP:20260423T013420
CREATED:20180821T144429Z
LAST-MODIFIED:20180821T144429Z
UID:23346-1534960800-1534971600@ghidlocal.com
SUMMARY:Expoziția de arte vizuale „Obiecte și oameni"
DESCRIPTION:Expoziția de arte vizuale „Obiecte și oameni”\n  \nVernisajul expoziției „Obiecte și oameni”\, realizată de artistul plastic orădean Raluca Emilia Avrămuț\, miercuri\, 22 august a.c.\, începând cu ora 18.00\, la Galeriile de artă – Reperaj din incinta Cetății Oradea\, corpul C. Expoziția\, în care veți putea regăsi lucrări realizate în diferite tehnici picturale și grafice\, va fi vernisată de criticul de artă Conf. Univ. Dr. Ștefan Gaie. \n„Creațiile semnate de Raluca Avrămuț explorează o zonă a realității mai puțin familiară nouă\, un gen de no man’s land definit de jocul subtil dintre prezență și absență\, umbră și lumină\, urmă și umbră\, fizic și metafizic. Acolo unde pentru noi există granițe clare\, pentru artistă există doar metamorfoză\, transfigurare\, nuanțe infinite care nu separă\, ci aduc împreună realități doar în aparență incompatibile\, iar ființele/obiectele care populează această altă realitate\, prind contur\, dar niciodată unul foarte clar\, reușind apoi\, chiar fără să ne dăm seama\, să producă în noi o iluminare.” \n
URL:https://ghidlocal.com/oradea/eveniment/expozitia-de-arte-vizuale-obiecte-si-oameni/
LOCATION:Cetatea Oradea/ Oradea Fortress\, Cetatea Oradea\, Oradea-Mare\, 410100\, Romania
CATEGORIES:Expoziție
ATTACH;FMTTYPE=image/jpeg:https://cdn.cluj.com/ghidlocalcom/sites/2/2018/08/Expozi%C8%9Bia-de-arte-vizuale-Obiecte-%C8%99i-oameni.jpg
END:VEVENT
END:VCALENDAR