BEGIN:VCALENDAR
VERSION:2.0
PRODID:-//Oradea - ECPv5.1.1//NONSGML v1.0//EN
CALSCALE:GREGORIAN
METHOD:PUBLISH
X-WR-CALNAME:Oradea
X-ORIGINAL-URL:https://ghidlocal.com/oradea
X-WR-CALDESC:Events for Oradea
BEGIN:VTIMEZONE
TZID:Europe/Bucharest
BEGIN:DAYLIGHT
TZOFFSETFROM:+0200
TZOFFSETTO:+0300
TZNAME:EEST
DTSTART:20160327T010000
END:DAYLIGHT
BEGIN:STANDARD
TZOFFSETFROM:+0300
TZOFFSETTO:+0200
TZNAME:EET
DTSTART:20161030T010000
END:STANDARD
END:VTIMEZONE
BEGIN:VEVENT
DTSTART;VALUE=DATE:20161123
DTEND;VALUE=DATE:20170101
DTSTAMP:20260422T151901
CREATED:20161128T091344Z
LAST-MODIFIED:20161128T091344Z
UID:5632-1479859200-1483228799@ghidlocal.com
SUMMARY:Expoziţie de artă fotografică: Tradiții populare de iarnă
DESCRIPTION:În preajma sărbătorilor de iarnă Muzeul Cetății și Orașului Oradea în parteneriat cu Asociația „Euro Foto Art” și Clubul Fotografic „Nufărul”\, a pregătit pentru publicul vizitator o interesantă și valoroasă expoziție de artă fotografică\, intitulată Tradiții populare de iarnă.\nLa această expoziție\, Tradiții populare de iarnă\, vor fi expuse peste 70 de fotografii color\, realizate de artiștii fotografi: Boholț Gabriel (București)\, Petrila Gheorghe EFIAP (Oradea)\, Săteanu Felician (Baia Mare) și Tudorel Ilie (Baia Mare). \nArtistul fotograf bucureștean Boholț Gabriel\, membru al Asociației ”Euro Foto Art”\, originar din Maramureș\, prezintă în cadrul expoziției o serie de fotografii autentice\, având ca subiect diferite obiceiuri și tradiții populare din Maramureș. \nLa rândul său\, artistul fotograf orădean Gheorghe Petrila EFIAP\, membru al Clubului Fotografic ”Nufărul”\, participă în cadru expoziției cu mai multe fotografii care prezintă: obiceiuri și colinde din Bălnaca-Groși (județul Bihor)\, Cavnic\, Văleni și Bogdan Vodă (Maramureș). De asemenea\, publicul vizitator va putea descoperi\, printre fotografiile expuse\, minunatele măști din Bucovina (județul Suceava)\, Cavnic și Săcel (Maramureș). La fel de impresionate sunt și fotografiile care prezintă Viflaemul în Maramureș sau Săniuș tradițional la Văleni (Maramureș) \nCunoscutul artist fotograf băimărean Felix Săteanu\, membru al Asociației ”Euro Foto Art”\, prezintă în cadrul expoziției fotografii cu obiceiuri de sărbători – colinde cu copii din Maramureș\, pe Moș Nicolae\, cu sacul în spate\, plin de cadouri\, pe străzile localităților din Maramureș. \nArtistul fotograf Ilie Tudorel din Baia Mare\, membru al Asociației ”Euro Foto Art”\, prezintă tradiționalul brad de Crăciun din Maramureș\, Colindători de Crăciun din mai multe zone ale Maramureșului: Brondoșii din Cavnic (o tradiție de sute de ani)\, Colindatori cu steagul (Lăpuș)\, cu Viflaimul\, cu buhaiul\, cu capra\, cu plugușorul și Colindatul cu Jocul Moșilor. Mai multe fotografii prezintă Tradiții de Ignat – Tăiatul porcului\, respectiv masa de Crăciun din Maramureș. \nVernisajul expoziției a avut loc miercuri\, 23 noiembrie 2016\, ora 17:00\, în turnul A-B etajul I \, la care organizatorii îi invită să participe pe toți iubitorii fotografiei și tradițiilor de iarnă. \n\n
URL:https://ghidlocal.com/oradea/eveniment/expozitia-de-arta-fotografica-traditii-populare-de-iarna/
LOCATION:Muzeul Cetății și Orașului Oradea\, Strada Emanoil Gojdu\, numărul 39-41\, Oradea\, Bihor\, 410066\, România
CATEGORIES:Expoziție
ATTACH;FMTTYPE=image/jpeg:https://cdn.cluj.com/ghidlocalcom/sites/2/2016/11/expo_art_foto_traditii_populare_de_iarna.jpg
ORGANIZER;CN="Muzeul%20Cet%C4%83%C8%9Bii%20%C8%99i%20Ora%C8%99ului%20Oradea":MAILTO: turism@oradea.ro
END:VEVENT
END:VCALENDAR