BEGIN:VCALENDAR
VERSION:2.0
PRODID:-//Oradea - ECPv5.1.1//NONSGML v1.0//EN
CALSCALE:GREGORIAN
METHOD:PUBLISH
X-WR-CALNAME:Oradea
X-ORIGINAL-URL:https://ghidlocal.com/oradea
X-WR-CALDESC:Events for Oradea
BEGIN:VTIMEZONE
TZID:Europe/Bucharest
BEGIN:DAYLIGHT
TZOFFSETFROM:+0200
TZOFFSETTO:+0300
TZNAME:EEST
DTSTART:20180325T010000
END:DAYLIGHT
BEGIN:STANDARD
TZOFFSETFROM:+0300
TZOFFSETTO:+0200
TZNAME:EET
DTSTART:20181028T010000
END:STANDARD
END:VTIMEZONE
BEGIN:VEVENT
DTSTART;TZID=Europe/Bucharest:20180811T090000
DTEND;TZID=Europe/Bucharest:20180811T190000
DTSTAMP:20260420T143205
CREATED:20180807T072029Z
LAST-MODIFIED:20180807T072029Z
UID:23026-1533978000-1534014000@ghidlocal.com
SUMMARY:Excursie de 1 zi: Descoperă Valea Ierului și a Barcăului
DESCRIPTION:Excursie de 1 zi: Descoperă Valea Ierului și a Barcăului\nVă invităm să descoperiți Valea Ierului și a Barcăului\, zone deosebit de frumoase a județului Bihor\, cu multe obiective turistice unice! \nTipul evenimentului: excursie cu autocar. \n********\nPornire:\n09:00 Oradea (centrul civic) \nObiective turistice ce urmează a fi vizitate:\n10:25 – 18:00\n– Sălard\, Biserica Reformată\n– Sântimreu\, vizită la Crama și podgoria Ur\n– Biserica de lemn Margine (sec. XVIII)\n– Pauză de prânz: Restaurant Bello\, Marghita.\n– Casa Muzeu Galoșpetreu\n– Conacul Komáromi (sec. XVII)\, Otomani\n– Diosig\, Castelul Zichy\, (sec. XVIII) – degustare de vin contracost:\na) Degustarea a 5 soiuri de vin – 20 lei\nb) Un pahar de vin (150 ml) – 5 lei\,\nc) limonadă (300 ml) – 5 lei. \nSosire:\n19:15 Oradea (centrul civic)\n19:30 în Băile 1 Mai\n19:40 în Băile Felix \n*********\nTaxa de participare la eveniment este de 49 lei pentru adulți\, respectiv 29 lei pentru copiii sub 12 ani (sub 3 ani gratis). Aceasta include transportul cu autocarul/microbuzul\, ghidajul și intrările la obiectivele turistice. Taxa de participare nu include degustarea de vin și prânzul. \nBiletele se pot achiziționa la sediul Agenției de Management al Destinației Bihor (AMD Bihor): str. Primăriei nr. 2\, et. 1\, ap. 6 – 7\, Oradea\, județul Bihor\, în zilele lucrătoare între orele 08:00 – 16:30.\nsau ONLINE pe www.biletmaster.ro\, sau pe următorul link: http://bit.ly/VALEAIERULUI \nNumărul locurilor disponibile este limitat. Organizatorii își mențin dreptul de a modifica programul. \n*********\nContact:\n– amdbihor@gmail.com\n– 0723373179\, AMD Bihor (Rosmann Eddie) \nFotografia de copertă: Ottományi Kiállítóház – Casa de Expoziții Otomani\nCredits: Bauman Dieter-Gergő \nMagyar nyelven: https://bit.ly/2lO9VtV \n
URL:https://ghidlocal.com/oradea/eveniment/excursie-de-1-zi-descopera-valea-ierului-si-a-barcaului/
LOCATION:Centru Civic
CATEGORIES:Turism
ATTACH;FMTTYPE=image/jpeg:https://cdn.cluj.com/ghidlocalcom/sites/2/2018/07/Excursie-de-1-zi.jpg
END:VEVENT
END:VCALENDAR