BEGIN:VCALENDAR
VERSION:2.0
PRODID:-//Oradea - ECPv5.1.1//NONSGML v1.0//EN
CALSCALE:GREGORIAN
METHOD:PUBLISH
X-WR-CALNAME:Oradea
X-ORIGINAL-URL:https://ghidlocal.com/oradea
X-WR-CALDESC:Events for Oradea
BEGIN:VTIMEZONE
TZID:Europe/Bucharest
BEGIN:DAYLIGHT
TZOFFSETFROM:+0200
TZOFFSETTO:+0300
TZNAME:EEST
DTSTART:20160327T010000
END:DAYLIGHT
BEGIN:STANDARD
TZOFFSETFROM:+0300
TZOFFSETTO:+0200
TZNAME:EET
DTSTART:20161030T010000
END:STANDARD
END:VTIMEZONE
BEGIN:VEVENT
DTSTART;TZID=Europe/Bucharest:20161019T150000
DTEND;TZID=Europe/Bucharest:20161019T170000
DTSTAMP:20260422T201916
CREATED:20161017T060957Z
LAST-MODIFIED:20161017T060957Z
UID:4202-1476889200-1476896400@ghidlocal.com
SUMMARY:ELSA Oradea: Perspective Juridice
DESCRIPTION:În data de 19 octombrie\, începând cu ora 14:00\, ELSA Oradea organizează evenimentul intitulat Perspective Juridice\, la Facultatea de Drept din Oradea.\n„Scopul acestui eveniment este acela de a contribui la educația juridică a studenților și de a prezenta aspectele definitorii ale profesiilor din acest domeniu. Invitații vor împărtăși din vasta lor experiență atât provocările cât și satisfacțiile\, vor prezenta ce presupune profesia lor\, pașii care trebuie urmați\, avantajele și dezavantajele\, urmând\, nu în ultimul rând\, să răspundă tuturor curiozităților studenților” – sursă text AICI. \n*ELSA (”The European Law Students’ Association” / “Asociaţia Europeană a Studenţilor la Drept”) a fost fondată în data de 4 mai 1981\, la Viena\, de către un grup de studenţi din Polonia\, Austria\, Ungaria şi Germania de Vest (Republica Federală Germană). Ideea de bază a fost promovarea legăturilor internaţionale şi a înţelegerii reciproce între studenţii la drept de ambele părţi ale cortinei de fier – citește mai mult AICI. \n
URL:https://ghidlocal.com/oradea/eveniment/elsa-oradea-perspective-juridice/
LOCATION:Facultatea de Drept Oradea\, Strada General Magheru\, numărul 26\, Oradea\, Bihor\, 410048\, România
CATEGORIES:Conferinte
ATTACH;FMTTYPE=image/jpeg:https://cdn.cluj.com/ghidlocalcom/sites/2/2016/10/Perspective_juridice_Elsa_Oradea.jpg
END:VEVENT
END:VCALENDAR