BEGIN:VCALENDAR
VERSION:2.0
PRODID:-//Oradea - ECPv5.1.1//NONSGML v1.0//EN
CALSCALE:GREGORIAN
METHOD:PUBLISH
X-WR-CALNAME:Oradea
X-ORIGINAL-URL:https://ghidlocal.com/oradea
X-WR-CALDESC:Events for Oradea
BEGIN:VTIMEZONE
TZID:Europe/Bucharest
BEGIN:DAYLIGHT
TZOFFSETFROM:+0200
TZOFFSETTO:+0300
TZNAME:EEST
DTSTART:20180325T010000
END:DAYLIGHT
BEGIN:STANDARD
TZOFFSETFROM:+0300
TZOFFSETTO:+0200
TZNAME:EET
DTSTART:20181028T010000
END:STANDARD
END:VTIMEZONE
BEGIN:VEVENT
DTSTART;TZID=Europe/Bucharest:20180210T100000
DTEND;TZID=Europe/Bucharest:20180210T130000
DTSTAMP:20260420T090953
CREATED:20180206T124614Z
LAST-MODIFIED:20180210T124600Z
UID:20602-1518256800-1518267600@ghidlocal.com
SUMMARY:Eliberarea de depresie și anxietate - workshop cu Adrian Vîntu
DESCRIPTION:Depresia aduce lipsa de motivație\, frica continuă de pierdere a controlului\, teroarea de zi cu zi\, precum și profund dureroasele atacuri de panică. Știi despre ce vorbesc\, nu-i așa?  \nWorkshopul este împărțit în două părți:  \n1. partea teoretică:   \n* Ce este depresia\n* Ce se întâmplă în creier de fapt\n* Care este rolul antidepresivelor\n* Care sunt strategiile confirmate științific de a diminua depresia  \n2. partea practică:  \n* Ce ai făcut tu și de ce nu a funcționat\n* Care este povestea ta\, posibilele motive de depresie și anxietatea\n* Cum înțelegi și gestionezi oamenii și situațiile din jurul tău \nÎnainte de workshop ai nevoie sa aduci rezultatul testului de Stres\, Anxietate și Depresie \n\nUn singur test pentru Stres\, Anxietate și Depresie \n\nCÂND?\nSâmbătă 10 Februarie 2018\, de la 10:00 \nUNDE?\nStr. Republicii\, nr. 10/A\, et. 1\, ap. 8 \nAm atașat în eveniment poza cu locația – este primul gang de pe colț cu Taverna\, scările din dreaptă\, etalul 1\, pe dreapta\, apt 8. Pe ușă scrie Avocați Vîntu Crișan. Ușa va fi deschisă. Numărul meu este 0745549146. \nÎNSCRIEREA\neste 100 de lei și pe bază de formular\nhttps://docs.google.com/forms/d/e/1FAIpQLSd97vS8b5VH8ldL3SwQPwCrYirsvE4bR1jMYROD2Td9eSGBcA/viewform \n
URL:https://ghidlocal.com/oradea/eveniment/eliberarea-de-depresie-si-anxietate-workshop-cu-adrian-vintu/
LOCATION:Societate Civila de Avocati „Vintu & Crisan”\, str. Republicii\, nr. 10/A\, et. 1\, ap. 8\, Oradea\, 410018\, RO
CATEGORIES:Educatie
ATTACH;FMTTYPE=image/jpeg:https://cdn.cluj.com/ghidlocalcom/sites/2/2018/02/20602_image_27798065_1685839304810162_5607691364447752259_o.jpg
END:VEVENT
END:VCALENDAR