BEGIN:VCALENDAR
VERSION:2.0
PRODID:-//Oradea - ECPv5.1.1//NONSGML v1.0//EN
CALSCALE:GREGORIAN
METHOD:PUBLISH
X-WR-CALNAME:Oradea
X-ORIGINAL-URL:https://ghidlocal.com/oradea
X-WR-CALDESC:Events for Oradea
BEGIN:VTIMEZONE
TZID:Europe/Bucharest
BEGIN:DAYLIGHT
TZOFFSETFROM:+0200
TZOFFSETTO:+0300
TZNAME:EEST
DTSTART:20190331T010000
END:DAYLIGHT
BEGIN:STANDARD
TZOFFSETFROM:+0300
TZOFFSETTO:+0200
TZNAME:EET
DTSTART:20191027T010000
END:STANDARD
END:VTIMEZONE
BEGIN:VEVENT
DTSTART;TZID=Europe/Bucharest:20190411T190000
DTEND;TZID=Europe/Bucharest:20190411T210000
DTSTAMP:20260422T204118
CREATED:20190225T064644Z
LAST-MODIFIED:20190401T074853Z
UID:24716-1555009200-1555016400@ghidlocal.com
SUMMARY:Dinte pentru dinte
DESCRIPTION:Teatrul Regina Maria vă invită la senzaționala comedie DINTE PENTRU DINTE\, după „Zeul carnagiului” de Yasmina Reza – o producție a Teatrului Național Târgu Mureș – Compania Liviu Rebreanu! \nPovestea scrisă de Yasmina Reza este simplă: doi băieţi se bat în curtea şcolii; unul îi rupe doi dinţi celuilalt cu un băţ. Acţiunea se mută repede într-un apartament la uşa căruia sună părinţii „agresorului” pentru a răspunde cei ai „victimei”. Aceştia nu doar că le răspund\, dar îi şi invită înăuntru. Ce urmează de aici\, puteţi vedea în spectacolul Dinte pentru dinte.\n„Dinte pentru dinte” este\, fără dubiu\, o comedie de cinci stele. (…) Comicul se naște firesc și spectacolul este mai mult decât o comedie la care râzi în hohote peste o oră. Pentru că\, dovedind o bună cunoaștere a psihologiei cuplului contemporan\, regizorul Cristi Juncu\, face\, de fapt\, un fel de cronică a societății noastre…” (Monica Andronescu – Revista Yorick) \nDistribuţia:\nVéronique: Elena Purea\nMichel: Nicu Mihoc\nAnnette: Roxana Marian\nAlain: Vlad Zamfirescu \nRegia: Cristi Juncu\nDecor şi costume: Cosmin Ardeleanu\nTraducerea: Tudor Ţepeneag\nRegizor tehnic: Ilarian Varga\nSufleur: Dana Arţuche \nFOGAT FOGÉRT\nYasmina Reza Az öldöklés istene című színműve alapján \nYasmina Reza darabjának története egyszerű: két fiú verekszik az iskola udvarán; egyik egy bottal kiüti a másiknak két fogát. A cselekmény hamarosan egy lakásajtó elé költözik\, ahol a „bántalmazó” szülei csengetnek\, és a „bántalmazott” szülei válaszolnak\, sőt be is hívják a látogatókat. Ami ez után követekezik\, kiderül az előadásból. \nSzereposztás:\nVéronique: Elena Purea\nMichel: Nicu Mihoc\nAnnette: Roxana Marian\nAlain: Vlad Zamfirescu \nRendező: Cristian Juncu\nDíszlet és jelmez: Cosmin Ardeleanu\nFordítás: Tudor Ţepeneag\nÜgyelő: Ilarian Varga\nSugó: Dana Arţuche \nÎn urma unui parteneriat între cele două teatre\, în data de 7 aprilie\, la Teatrul Național Târgu Mureș se va juca musicalul de succes „Scripcarul pe acoperiș”. Menirea acestui schimb de spectacole este ca producțiile altor teatre să devină accesibile pentru spectactorii orădeni\, chiar și în afara perioadei în care va avea loc Festivalul Internațional de Teatru\, precum și promovarea mai eficientă a actorilor Teatrului Regina Maria în rândurile spectatorilor din alte orașe. \n? Biletele s-au pus în vânzare la Agenţia de Bilete a Teatrului de marți până vineri în intervalul orar 12:00 – 18:00 şi sâmbăta între orele 10:00 – 13:00. Puteţi achiziţiona bilete şi cu o oră înainte spectacol sau online pe www.biletmaster.ro. \nPentru informaţii suplimentare şi rezervări de bilete\, vă invităm să sunaţi la numărul de telefon: 0372/368.475. \nhttps://www.facebook.com/events/305733533462998/ \n
URL:https://ghidlocal.com/oradea/eveniment/dinte-pentru-dinte/
LOCATION:Teatrul Regina Maria\, Teatrul Regina Maria
CATEGORIES:Teatru
ATTACH;FMTTYPE=image/jpeg:https://cdn.cluj.com/ghidlocalcom/sites/2/2019/02/DintepentruDinteCristinaGanj3.jpg
END:VEVENT
END:VCALENDAR