BEGIN:VCALENDAR
VERSION:2.0
PRODID:-//Oradea - ECPv5.1.1//NONSGML v1.0//EN
CALSCALE:GREGORIAN
METHOD:PUBLISH
X-WR-CALNAME:Oradea
X-ORIGINAL-URL:https://ghidlocal.com/oradea
X-WR-CALDESC:Events for Oradea
BEGIN:VTIMEZONE
TZID:Europe/Bucharest
BEGIN:DAYLIGHT
TZOFFSETFROM:+0200
TZOFFSETTO:+0300
TZNAME:EEST
DTSTART:20190331T010000
END:DAYLIGHT
BEGIN:STANDARD
TZOFFSETFROM:+0300
TZOFFSETTO:+0200
TZNAME:EET
DTSTART:20191027T010000
END:STANDARD
END:VTIMEZONE
BEGIN:VEVENT
DTSTART;TZID=Europe/Bucharest:20190315T230000
DTEND;TZID=Europe/Bucharest:20190316T070000
DTSTAMP:20260422T051809
CREATED:20190225T064643Z
LAST-MODIFIED:20190304T000100Z
UID:24713-1552690800-1552719600@ghidlocal.com
SUMMARY:Dinsubsol invites Arapu
DESCRIPTION:Mention his name to any clued up dance-floor connoisseur and they won’t mince their words: Arapu is a certified treasure. <3 \n[] Arapu / Motiv / Badinule \nmore tba… \nhttps://www.facebook.com/events/1356365801169801/ \n
URL:https://ghidlocal.com/oradea/eveniment/dinsubsol-invites-arapu/
LOCATION:Casa de Cultura a Sindicatelor Oradea\, Casa de Cultura a Sindicatelor Oradea
CATEGORIES:Concerte
ATTACH;FMTTYPE=image/jpeg:https://cdn.cluj.com/ghidlocalcom/sites/2/2019/02/Dinsubsol-invites-Arapu-.jpg
END:VEVENT
END:VCALENDAR