BEGIN:VCALENDAR
VERSION:2.0
PRODID:-//Oradea - ECPv5.1.1//NONSGML v1.0//EN
CALSCALE:GREGORIAN
METHOD:PUBLISH
X-WR-CALNAME:Oradea
X-ORIGINAL-URL:https://ghidlocal.com/oradea
X-WR-CALDESC:Events for Oradea
BEGIN:VTIMEZONE
TZID:Europe/Bucharest
BEGIN:DAYLIGHT
TZOFFSETFROM:+0200
TZOFFSETTO:+0300
TZNAME:EEST
DTSTART:20190331T010000
END:DAYLIGHT
BEGIN:STANDARD
TZOFFSETFROM:+0300
TZOFFSETTO:+0200
TZNAME:EET
DTSTART:20191027T010000
END:STANDARD
END:VTIMEZONE
BEGIN:VEVENT
DTSTART;TZID=Europe/Bucharest:20190428T230000
DTEND;TZID=Europe/Bucharest:20190428T233000
DTSTAMP:20260424T171320
CREATED:20190422T075525Z
LAST-MODIFIED:20190422T083002Z
UID:25267-1556492400-1556494200@ghidlocal.com
SUMMARY:Dinsubsol de Paste 5.0
DESCRIPTION:Dinsubsol de Paste\, iepurasi sau 1 mai liber ca niciodata\, noi zicem ca e motiv de petrecere. Asa ca\, ne vedem in Lust sa incingem o sarbatoare in familie. \n[|] Data: 28 aprilie 2019\n[|] Locatie: LUST\, Oradea\n[|] Intrare: 25 ron \n[] Videodrome Arts visuals \n––––––––––––––\n– Ne rezervam dreptul de a ne selecta clientela.\n– Acces 18+ \nhttps://www.facebook.com/events/654843411605149/ \n
URL:https://ghidlocal.com/oradea/eveniment/dinsubsol-de-paste-5-0/
LOCATION:LUST\, LUST
CATEGORIES:Concerte
ATTACH;FMTTYPE=image/jpeg:https://cdn.cluj.com/ghidlocalcom/sites/2/2019/04/Dinsubsol-de-Paste-5.0-.jpg
END:VEVENT
END:VCALENDAR