BEGIN:VCALENDAR
VERSION:2.0
PRODID:-//Oradea - ECPv5.1.1//NONSGML v1.0//EN
CALSCALE:GREGORIAN
METHOD:PUBLISH
X-WR-CALNAME:Oradea
X-ORIGINAL-URL:https://ghidlocal.com/oradea
X-WR-CALDESC:Events for Oradea
BEGIN:VTIMEZONE
TZID:Europe/Bucharest
BEGIN:DAYLIGHT
TZOFFSETFROM:+0200
TZOFFSETTO:+0300
TZNAME:EEST
DTSTART:20160327T010000
END:DAYLIGHT
BEGIN:STANDARD
TZOFFSETFROM:+0300
TZOFFSETTO:+0200
TZNAME:EET
DTSTART:20161030T010000
END:STANDARD
END:VTIMEZONE
BEGIN:VEVENT
DTSTART;TZID=Europe/Bucharest:20161019T140000
DTEND;TZID=Europe/Bucharest:20161019T170000
DTSTAMP:20260422T221035
CREATED:20161012T111320Z
LAST-MODIFIED:20161012T111320Z
UID:4123-1476885600-1476896400@ghidlocal.com
SUMMARY:Deschiderea Școlii de Ghizi Oradea
DESCRIPTION:Fii tu ghidul României! Descoperă frumusețile țării alături de echipa ATGR!\nȘcoala de ghizi ATGR a ajuns la a 10-a ediție la București și la a 3-a ediție la Iași și\, ca în fiecare an\, așteaptă cu nerăbdare noii pasionați de turism și nu numai\, noi membri care să se alăture echipei. Acum acestă echipă de profesioniști este prezentă și la Oradea. \nAlături de noi vei avea parte de experiențe de neuitat în cadul cărora îți vei depăși limitele\, vei cunoaște oameni cu care vei lega noi prietenii\, dar\, în special vei învăța partea practică din ghidărie prin aplicațiile desfășurate în diferite zone ale țării și chiar și în afara granițelor! \nDacă ți-am trezit curiozitatea\, nu ezita să te înscrii până pe 18 octombrie 2016\, la sediul nostru din:\nOradea\, str. Parcul 1 Decembrie\, nr.1\, Incinta Casei de Cultura a Sindicatelor\, jud. Bihor\, de luni până vineri între orele 10:00-18:00. \nCursurile de agent turism\, ghid local și național\, ghid montan se vor desfășura în perioada octombrie 2016 – iunie 2017 (toate cele trei cursuri sunt acreditate de către ANC): \n\nCurs Agent Turism – Ghid local (8 luni) – 700 lei\nCurs Ghid National (Tour Operator) – (3 luni) – 400 lei\nCursul de Ghid Montan (4 luni) – 1000 lei\n\nCursurile teoretice și înscrierea în cadrul școlii sunt GRATUITE! \nPentru cele trei cursuri de mai sus\, sunt necesare următoarele documente: \n\ncopie xerox CI/BI;\ncopie certificat de naștere;\ncopie certificat de căsătorie dacă este cazul;\ncopie dupa ultimul act de studii (cel puțin absolvent de liceu cu diplomă de bacalaureat);\nCV – format Europass;\nformularul de înscriere (la sediu);\ncontract (în 2 exemplare) (la sediu);\n3 poze tip buletin (la sediu);\nadeverința medicală în care să fie specificat „clinic sănătos – apt pentru cursul de agent turism/ghid”;\ncazier judiciar;\ndosar (la sediu);\n\nOdată cu depunerea dosarului se achită un avans de 50% din taxa de școlarizare pentru fiecare curs. \nCursurile vor avea loc săptămânal în jurul orei 18:00\, locul și orarul vor fi anunțate la deschiderea din octombrie. \nNu se vor face cursuri pe perioada vacanței și a sesiunii. Programa școlii include obligatoriu și participarea la 3 aplicații practice pentru cursul de agent turism – ghid local și 2 aplicații pentru cursul de ghid național. \nPe parcursul anului vor fi organizate vizite și tururi gratuite în Oradea. \nȘcoala de ghizi se adresează tuturor tinerilor\, și nu numai\, care doresc să iasă la munte\, să-și faca prieteni\, să învețe lucruri practice despre munte\, „ghidărie” și turism\, și să primească din partea noastră recomandarea către agențiile de turism colaboratoare. \nDupă finalizarea cursului\, cursanții au posibilitatea de a urma una din cele 2 sprecializări: Ghid local/național sau agent de turism. \nCursurile sunt susținute de personal calificat\, de formatori în diverse domenii (geografie\, turism\, management\, marketing\, psihopedagogie și altele.) \nOPORTUNITĂȚI: \nOferim la finalul cursului:\n– joburi de vară ca ghid turistic în România în cadrul taberelor școlare\n– colaborări pentru ghidaj în România și străinătate\n– obținerea\, pe baza diplomei\, acreditarea de ghid turistic de la ANT București \nPentru înscrieri și alte detalii ne puteți contacta:\nTel: 0744.551.797 ; 0744.352.355\nE-mail: oradea@ghiziiromaniei.ro\nWeb: www.ghiziiromaniei.ro \nInformații preluate de AICI. \n
URL:https://ghidlocal.com/oradea/eveniment/deschiderea-scolii-de-ghizi-oradea/
LOCATION:Școala de Ghizi Oradea\, strada Parcul 1 Decembrie\, numărul 1\, Oradea\, Bihor\, 410068\, România
CATEGORIES:Turism
ATTACH;FMTTYPE=image/jpeg:https://cdn.cluj.com/ghidlocalcom/sites/2/2016/10/deschiderea_scolii_de_ghizi_oradea.jpg
ORGANIZER;CN="%C8%98coala%20de%20Ghizi%20Oradea":MAILTO:oradea@ghiziiromaniei.ro 
END:VEVENT
END:VCALENDAR