BEGIN:VCALENDAR
VERSION:2.0
PRODID:-//Oradea - ECPv5.1.1//NONSGML v1.0//EN
CALSCALE:GREGORIAN
METHOD:PUBLISH
X-WR-CALNAME:Oradea
X-ORIGINAL-URL:https://ghidlocal.com/oradea
X-WR-CALDESC:Events for Oradea
BEGIN:VTIMEZONE
TZID:Europe/Bucharest
BEGIN:DAYLIGHT
TZOFFSETFROM:+0200
TZOFFSETTO:+0300
TZNAME:EEST
DTSTART:20190331T010000
END:DAYLIGHT
BEGIN:STANDARD
TZOFFSETFROM:+0300
TZOFFSETTO:+0200
TZNAME:EET
DTSTART:20191027T010000
END:STANDARD
END:VTIMEZONE
BEGIN:VEVENT
DTSTART;TZID=Europe/Bucharest:20190308T190000
DTEND;TZID=Europe/Bucharest:20190308T220000
DTSTAMP:20260420T210115
CREATED:20190303T235433Z
LAST-MODIFIED:20190304T001126Z
UID:24781-1552071600-1552082400@ghidlocal.com
SUMMARY:Degustare de vin + cină specială
DESCRIPTION:Cu gândul la #primăvară încă de acum\, te invităm să călătorești alături de noi\, în cadrul unui eveniment inedit\, în fascinanta lume a vinului de #poveste și a răsfățurilor #culinare. Astfel\, vineri\, 8 martie\, începând cu orele 19.00\, îți dăm întâlnire cu 4 sortimente spectaculoase de #vin aparținând cramei #Jelna ( Fetească Regală\, Sauvignon Blanc\, Merlot Rose și Sauvignon Blanc late harvest)\, precum și cu #delicii culinare menite să le complimenteze #perfect\, ce includ bruschetele cu anșoa\, roșii și ulei de măsline\, fileul de doradă servit cu legume ușor rumenite\, midiile cu sos de roșii și usturoi și celebrul nostru lemon cake. Grăbește-te însă\, locurile sunt #limitate și nu uita să împarți #experiența cu cineva drag :). \n–-\nPreț : 70 lei \n–-\nDetalii și rezervări ► 0742. 745. 837\nDespre noi ► www.silverhotel.ro \nhttps://www.facebook.com/events/374837559959333/ \n
URL:https://ghidlocal.com/oradea/eveniment/degustare-de-vin-cina-speciala/
LOCATION:Silver Hotel\, Silver Hotel
CATEGORIES:Degustare
ATTACH;FMTTYPE=image/jpeg:https://cdn.cluj.com/ghidlocalcom/sites/2/2019/03/Degustare-de-vin-cina%CC%86-speciala%CC%86-.jpg
ORGANIZER;CN="Silver%20Hotel":MAILTO:noreply@facebookmail.com
END:VEVENT
END:VCALENDAR