BEGIN:VCALENDAR
VERSION:2.0
PRODID:-//Oradea - ECPv5.1.1//NONSGML v1.0//EN
CALSCALE:GREGORIAN
METHOD:PUBLISH
X-WR-CALNAME:Oradea
X-ORIGINAL-URL:https://ghidlocal.com/oradea
X-WR-CALDESC:Events for Oradea
BEGIN:VTIMEZONE
TZID:Europe/Bucharest
BEGIN:DAYLIGHT
TZOFFSETFROM:+0200
TZOFFSETTO:+0300
TZNAME:EEST
DTSTART:20190331T010000
END:DAYLIGHT
BEGIN:STANDARD
TZOFFSETFROM:+0300
TZOFFSETTO:+0200
TZNAME:EET
DTSTART:20191027T010000
END:STANDARD
END:VTIMEZONE
BEGIN:VEVENT
DTSTART;TZID=Europe/Bucharest:20190422T190000
DTEND;TZID=Europe/Bucharest:20190422T210000
DTSTAMP:20260421T224724
CREATED:20190422T075524Z
LAST-MODIFIED:20190422T083115Z
UID:25264-1555959600-1555966800@ghidlocal.com
SUMMARY:Cursuri de teatru pentru adulți
DESCRIPTION:Cursuri de arta actorului și improvizație scenică \nOamenilor le este greu sa facă primul pas\, să participe la un curs de arta actorului\, dar după ce experimentează fenomenul\, întotdeauna vor să se întoarcă să mai înveţe.\nAtelierul își propune formarea unei gândiri imaginative și creative\, dezvoltarea abilităților performative\, a capacităților de utilizare a tehnicilor media clasice\, dar și a celor experimentale și alternative\, în vederea realizării unor produse artistice inovatoare.\nParticipați la ideea unei alte viziuni posibile\, a necesității de a face un alt gest diferit de cel al urii și al violenței! O idee diferită de cea a unei puteri care își întemeiază legile în beneficiul celor puțini și înfrângerea multora\, ignorând demnitatea și drepturile vieții celor care se luptă în fiecare zi pentru a găsi sens și chiar pâine! O forță care ne face să ne temem și să ne ascundem\, ne închide ca sclavi în singurătate …\nAcesta este unul dintre mesajele proiectului nostru. Dreptul la o viață demnă este incontestabil și primul dintre toate! \n„Fericirea este un act politic!” \nCursul de Artă Dramatică – Actorie se adresează tuturor persoanelor care vor să-și exploreze potențialul creativ\, care vor să se cunoască pe sine\, care vor să-ți depășească limitele prin exerciții psiho-fizice specifice. Atelierul e mai mult decât un curs de actorie\, e o provocare la autocunoaștere\, la eliberarea trupului și minții de stereotipii\, la stimularea fanteziei\, la descoperirea\, dezvoltarea și rafinarea propriilor abilități.\nAceste module de lucru se vor desfășura sub o atentă îndrumare din partea unui personal specializat în arta actorului\, vor lua forma unor exerciții de improvizație și jocuri specifice. \nCursurile se desfășoară în Ceatea Oradea. \nPentru mai multe detalii și informații sunați la nr. 0757 365 146 sau 0740 308 321. \nhttps://www.facebook.com/events/2106685149623411/ \n
URL:https://ghidlocal.com/oradea/eveniment/cursuri-de-teatru-pentru-adulti/
LOCATION:Experiment Teatru Clandestin\, Experiment Teatru Clandestin
CATEGORIES:Curs
ATTACH;FMTTYPE=image/jpeg:https://cdn.cluj.com/ghidlocalcom/sites/2/2019/04/Cursuri-de-teatru-pentru-adult%CC%A6i-.jpg
END:VEVENT
END:VCALENDAR