BEGIN:VCALENDAR
VERSION:2.0
PRODID:-//Oradea - ECPv5.1.1//NONSGML v1.0//EN
CALSCALE:GREGORIAN
METHOD:PUBLISH
X-WR-CALNAME:Oradea
X-ORIGINAL-URL:https://ghidlocal.com/oradea
X-WR-CALDESC:Events for Oradea
BEGIN:VTIMEZONE
TZID:Europe/Bucharest
BEGIN:DAYLIGHT
TZOFFSETFROM:+0200
TZOFFSETTO:+0300
TZNAME:EEST
DTSTART:20160327T010000
END:DAYLIGHT
BEGIN:STANDARD
TZOFFSETFROM:+0300
TZOFFSETTO:+0200
TZNAME:EET
DTSTART:20161030T010000
END:STANDARD
END:VTIMEZONE
BEGIN:VEVENT
DTSTART;TZID=Europe/Bucharest:20160928T210000
DTEND;TZID=Europe/Bucharest:20161004T210000
DTSTAMP:20260420T064452
CREATED:20160928T112827Z
LAST-MODIFIED:20160928T112827Z
UID:3650-1475096400-1475614800@ghidlocal.com
SUMMARY:Cursuri de dans S&D Mania
DESCRIPTION:Emoția\, Eleganța și Rafinamentul le veți regăsi la Clubul de Dans S&D în cadrul noilor cursuri de dans de societate / latino americane + dansuri în premieră pe oraș începând cu data de:\n1. Începători – I – 29.09.2016 orele 20 00 – 21 30 și 4.10.2016 orele 20 00 – 21 30 (tineret și adulți)\, locația: strada Tudor Vladimirescu nr 75 – Urban Place (fostul Restaurant Select) \n2. Începători – II – 30.09.2016 orele 20 00 – 21 30 și 1.10.2016 orele 20 00 – 21 30 (tineret și adulți)\, locația: Dynamic Studio (Strada Alexandru Vaida Voievod nr 18 ) – Clădirea Black & White \n3. Avansați I-II – 28.09.2016 orele 20 00 – 21 30 și 3.10.2016 orele 20 00 – 21 30 (tineret și adulți)\, locația: strada Tudor Vladimirescu nr 75 – Urban Place (fostul Restaurant Select) \n4. Intermediari – 29.09.2016 orele 19 00 și 4.10.2016 orele 19 00 (tineret și adulți) locație: strada Tudor Vladimirescu nr 75 – Urban Place (fostul Restaurant Select) \nAlte informații: \na) Costul cursului este cel mai accesibil din oraș: 60 de lei / luna – 2 ședințe / săptamână – 1:30 / zi \nb) Două dintre cele mai moderne și proaspăt renovate săli de dans din oraș: parchet\, oglinzi\, vestiare \nc) Dansuri în premieră pe oraș \nd) Noua metodologie de predare \nAlte servicii : \n1. Dansul Mirilor \n2. Cursuri de dans pentru copii \nPentru detalii sau înscrieri ne găsiți la: 0746 851 620 / 0747 468 663 \nInformații preluate de AICI \n
URL:https://ghidlocal.com/oradea/eveniment/cursuri-de-dans-sd-mania/
LOCATION:Urban Place\, Tudor Vladimirescu nr. 75\, Oradea\, 410203\, Romania
CATEGORIES:Sport
ATTACH;FMTTYPE=image/jpeg:https://cdn.cluj.com/ghidlocalcom/sites/2/2016/09/Cursuri_de_dans_S_D_Mania.jpg
ORGANIZER;CN="Clubul%20de%20dans%20S%26amp%3BD":MAILTO:shake_dans@yahoo.com
END:VEVENT
END:VCALENDAR