BEGIN:VCALENDAR
VERSION:2.0
PRODID:-//Oradea - ECPv5.1.1//NONSGML v1.0//EN
CALSCALE:GREGORIAN
METHOD:PUBLISH
X-WR-CALNAME:Oradea
X-ORIGINAL-URL:https://ghidlocal.com/oradea
X-WR-CALDESC:Events for Oradea
BEGIN:VTIMEZONE
TZID:Europe/Bucharest
BEGIN:DAYLIGHT
TZOFFSETFROM:+0200
TZOFFSETTO:+0300
TZNAME:EEST
DTSTART:20180325T010000
END:DAYLIGHT
BEGIN:STANDARD
TZOFFSETFROM:+0300
TZOFFSETTO:+0200
TZNAME:EET
DTSTART:20181028T010000
END:STANDARD
END:VTIMEZONE
BEGIN:VEVENT
DTSTART;TZID=Europe/Bucharest:20180525T090000
DTEND;TZID=Europe/Bucharest:20180526T180000
DTSTAMP:20260420T104725
CREATED:20180330T083908Z
LAST-MODIFIED:20180404T083859Z
UID:21815-1527238800-1527357600@ghidlocal.com
SUMMARY:Curs - Protecția datelor cu caracter personal - București
DESCRIPTION:General Data Protection Regulation este noul regulament privind protecția datelor cu caracter personal ce intră în vigoare la data de 25 Mai 2018\, regulament ce înlocuiește actuala lege privind procesarea datelor cu caracter personal. Noul regulament aduce clarificări în ceea ce privește datele cu caracter personal\, principiile de procesare și drepturile cetățenilor și ale rezidenților Uniunii Europene însă aduce și cerințe noi privind transparența și securitatea procesării datelor cu caracter personal. Amenzile pentru ne-conformitate vor fi mari\, și vor merge până la 20 mil EUR sau 4% din cifra de afaceri\, care este mai mare.Deși cerințele regulamentului par dificil de implementat\, există multe unelte\, șabloane și metodologii de abordare. Însă toate au în centrul lor nu tehnologia\, nu procesele\, nu legislația ci oamenii. De aceea este foarte important ca atât angajații cât și responsabilul organizației pentru respectarea prevederilor GDPR – așa numitul Data Protection Office (DPO) să fie train-uiți privind principiile de bază ale GDPR. \nÎNSCRIERI: office@corporactive.ro | 0749 206 119 \nCui se adresează acest curs?\nTuturor celor implicați în activitățile ce implică procesare de date personale – sales\, marketing\, IT\, legal\, operațiuni – cât și persoanelor ce doresc să devină Data Protection Officers. \nTrainer: Tudor Galoș\nConsultant de business cu experiență de peste 15 ani în management-ul de business și marketing\, coordonând implementarea unor programe de business și marketing la nivel național în România și la nivel regional în Europa de Sud-Est. În zona de Compliance a coordonat implementarea programelor de privacy la nivelul echipelor de Consumer și Marketing în Microsoft România și a fost responsabil de coordonarea răspunsurilor de audit la nivel local – inclusiv de business\, proceduri și privacy. Speaker experimentat cu peste 1000 de prezentări livrate la diverse audiențe. Tudor coordonează implementări de proiecte de aliniere GDPR la clienți din zona insurance\, professional services\, retail și manufacturing. \nCompetențe profesionale dobândite\n•	Înțelegerea contextului în care GDPR devine necesar\, nu doar obligatoriu.\n•	Principiile de bază ale procesării datelor cu caracter personal.\n•	Drepturile cetățenilor și rezidenților Uniunii Europene privind respectarea procesării datelor cu caracter personal.\n•	Cum se lucrează cu autoritățile competente – atât din România cât și din restul țărilor UE.\n•	Cum să alcătuiască Registrul Prelucrărilor de Date Personale.\n•	Use case-uri non-standard privind aplicarea GDPR (unde pot apărea probleme deși situația pare OK). \nCurricula cursului\n•	Necesitatea unei noi legi pentru protecția datelor cu caracter personal\n•	Contextul GDPR\, definiții\n•	Principii de procesare a datelor\, interesele legitime și consimțăminte\n•	Drepturile cetățenilor europeni în raport cu procesatorii de date\n•	Operatori de date și împuterniciți și obligațiile acestora\n•	Data Protection Officer – roluri și responsabilități\n•	Transferuri de date personale – între țări terțe\n•	Autorități și control \nÎNSCRIERI: office@corporactive.ro | 0749 206 119 \n
URL:https://ghidlocal.com/oradea/eveniment/curs-protectia-datelor-cu-caracter-personal-bucuresti/
CATEGORIES:Educatie
ATTACH;FMTTYPE=image/jpeg:https://cdn.cluj.com/ghidlocalcom/sites/2/2018/03/21815_image_29351552_1496707647099813_1670767174004534728_o.jpg
END:VEVENT
END:VCALENDAR