BEGIN:VCALENDAR
VERSION:2.0
PRODID:-//Oradea - ECPv5.1.1//NONSGML v1.0//EN
CALSCALE:GREGORIAN
METHOD:PUBLISH
X-WR-CALNAME:Oradea
X-ORIGINAL-URL:https://ghidlocal.com/oradea
X-WR-CALDESC:Events for Oradea
BEGIN:VTIMEZONE
TZID:Europe/Bucharest
BEGIN:DAYLIGHT
TZOFFSETFROM:+0200
TZOFFSETTO:+0300
TZNAME:EEST
DTSTART:20190331T010000
END:DAYLIGHT
BEGIN:STANDARD
TZOFFSETFROM:+0300
TZOFFSETTO:+0200
TZNAME:EET
DTSTART:20191027T010000
END:STANDARD
END:VTIMEZONE
BEGIN:VEVENT
DTSTART;TZID=Europe/Bucharest:20190208T070000
DTEND;TZID=Europe/Bucharest:20190209T150000
DTSTAMP:20260421T074958
CREATED:20190124T140501Z
LAST-MODIFIED:20190130T121654Z
UID:24396-1549609200-1549724400@ghidlocal.com
SUMMARY:Curs - Networking Strategic și Branding Personal - Oradea
DESCRIPTION:Se spune adesea că împreună cu alții poți obține mult mai mult decât de unul singur. Iar networkingul poate fi cheia ta către succes. Cu cât vorbești cu oameni care au ajuns la un nivel profesional și financiar ridicat vei vedea că ceea ce au în comun e networkingul. Dacă ai fost cel puțin o dată în situația de a vinde ceva\, bănuiesc că știi că e mult mai ușor să faci o vânzare prin recomandare. \nPe de cealaltă parte\, un brand personal bine conturat te ajută sa devii vizibil și te poate ajuta în poziționarea ca expert sau lider de opinie. În lumea competitivă în care trăim e important să reușim să ne diferențiem\, să facem vizibile punctele noastre forte și la ce suntem într-adevăr buni. Iar oamenilor le place să fie în preajma unor astfel de persoane. \nParcurgând acest curs vei reuși să îți îmbunătățești activitatea profesională cu ajutorul networkingului strategic\, să îți descoperi atuurile\, să le evidențiezi și să îți identifici poziționarea pe piață. \nÎNSCRIERI: office@corporactive.ro | 0749 206 119 \nCui se adresează acest curs?  \n• Antreprenori;• Directori Generali;• Directori Comerciali;• Directori Vânzări;• Directori de Comunicare;• Directori de Marketing;• Business Developeri;• Agenți de vânzări. \nCurricula cursului  \n• Networking strategic;• Psihologia relațiilor;• Cum să faci follow-up eficient;• Cele 10 nivele ale recomandărilor;• Pitch – prezentare personală;• Limbajul non-verbal în interacțiunile umane;• Prin ce se definește brandul tău personal?;• Reclama personală;• Canale de comunicare ale brandului;• Strategia de brand personal. \nBeneficiile cursului  \n• Identificarea strategiilor eficiente de business networking;• Cum să creezi o primă și ultimă impresie memorabile;• Folosirea tehnicilor de follow-up;• Vei afla cum poți să îți crești vânzările folosind recomandările;• Vei reuși să te prezinți într-o maniera convingătoare și atractivă;• Vei identifica acele caracteristici care determină brandul tău personal;• Folosirea canalelor de comunicare a brandului într-un mod eficient. \nÎNSCRIERI: office@corporactive.ro | 0749 206 119 \nhttps://www.facebook.com/events/452918831907910/ \n
URL:https://ghidlocal.com/oradea/eveniment/curs-networking-strategic-si-branding-personal-oradea/
LOCATION:Corporactive Consulting\, Corporactive Consulting
CATEGORIES:Educatie
ATTACH;FMTTYPE=image/jpeg:https://cdn.cluj.com/ghidlocalcom/sites/2/2019/01/Curs-Networking-Strategic-s%CC%A6i-Branding-Personal-Oradea-.jpg
END:VEVENT
END:VCALENDAR