BEGIN:VCALENDAR
VERSION:2.0
PRODID:-//Oradea - ECPv5.1.1//NONSGML v1.0//EN
CALSCALE:GREGORIAN
METHOD:PUBLISH
X-WR-CALNAME:Oradea
X-ORIGINAL-URL:https://ghidlocal.com/oradea
X-WR-CALDESC:Events for Oradea
BEGIN:VTIMEZONE
TZID:Europe/Bucharest
BEGIN:DAYLIGHT
TZOFFSETFROM:+0200
TZOFFSETTO:+0300
TZNAME:EEST
DTSTART:20190331T010000
END:DAYLIGHT
BEGIN:STANDARD
TZOFFSETFROM:+0300
TZOFFSETTO:+0200
TZNAME:EET
DTSTART:20191027T010000
END:STANDARD
END:VTIMEZONE
BEGIN:VEVENT
DTSTART;TZID=Europe/Bucharest:20190208T070000
DTEND;TZID=Europe/Bucharest:20190208T150000
DTSTAMP:20260421T041203
CREATED:20190124T140501Z
LAST-MODIFIED:20190130T121725Z
UID:24394-1549609200-1549638000@ghidlocal.com
SUMMARY:Curs DPO – Data Protection Officer - Oradea
DESCRIPTION:Cursul acreditat ANC de responsabil cu protecția datelor pregătit de Corporactive împreună cu Tudor Galoș Consulting este un curs diferit bazat pe PBL – problem-based learning. Astfel\, pe parcursul modulelor training-ului cursanții se vor lovi de probleme reale de protecție a datelor cu caracter personal întâlnite atât în România cât și în străinătate. Aceștia vor trebui să lucreze în echipe pentru a rezolva diversele situații\, aplicând cunoștințele livrate la curs și analizând problemele din toate unghiurile posibile pentru a identifica soluțiile corecte. \nÎn cadrul acestui training cursanții vor avea șansa să învețe despre importanța protecției datelor cu caracter personal\, despre drepturile și obligațiile organizațiilor și ale oamenilor\, despre modul în care o organizație trebuie să monitorizeze conformitatea cu legile privind protecția datelor cu caracter personal\, ce trebuie și ce nu trebuie să facă un responsabil cu protecția datelor\, modul în care acesta parteneriază cu autoritățile de supraveghere precum și cum trebuie să gestioneze riscurile inclusiv riscurile de securitate tehnică. \nTudor Galoș are o experiență de 16 ani în business\, iar de peste un an conduce propriul său cabinet de consultanță de business\, coordonând proiecte de aliniere la cerințele GDPR la peste 40 de clienți din diverse domenii: retail\, e-tail\, servicii business\, sănătate\, marketing\, construcții\, asigurări\, financiar etc. \nVezi aici structura cursului:https://corporactive.ro/cursuri/dpo-data-protection-officer/ \nÎNSCRIERI: office@corporactive.ro | 0749 206 119 \nhttps://www.facebook.com/events/2848902235135284/ \n
URL:https://ghidlocal.com/oradea/eveniment/curs-dpo-data-protection-officer-oradea/
LOCATION:Corporactive Consulting\, Corporactive Consulting
CATEGORIES:Educatie
ATTACH;FMTTYPE=image/jpeg:https://cdn.cluj.com/ghidlocalcom/sites/2/2019/01/Curs-DPO-%E2%80%93-Data-Protection-Officer-Oradea-.jpg
END:VEVENT
END:VCALENDAR