BEGIN:VCALENDAR
VERSION:2.0
PRODID:-//Oradea - ECPv5.1.1//NONSGML v1.0//EN
CALSCALE:GREGORIAN
METHOD:PUBLISH
X-WR-CALNAME:Oradea
X-ORIGINAL-URL:https://ghidlocal.com/oradea
X-WR-CALDESC:Events for Oradea
BEGIN:VTIMEZONE
TZID:Europe/Bucharest
BEGIN:DAYLIGHT
TZOFFSETFROM:+0200
TZOFFSETTO:+0300
TZNAME:EEST
DTSTART:20190331T010000
END:DAYLIGHT
BEGIN:STANDARD
TZOFFSETFROM:+0300
TZOFFSETTO:+0200
TZNAME:EET
DTSTART:20191027T010000
END:STANDARD
END:VTIMEZONE
BEGIN:VEVENT
DTSTART;TZID=Europe/Bucharest:20190207T160000
DTEND;TZID=Europe/Bucharest:20190207T190000
DTSTAMP:20260421T092302
CREATED:20190124T140500Z
LAST-MODIFIED:20190130T121826Z
UID:24391-1549555200-1549566000@ghidlocal.com
SUMMARY:Curs de Gatit pentru incepatori cu Chef Tiberius
DESCRIPTION:Vreti sa va impresionati partenerii cu un preparat simplu si de efect?Secretul este in pasiunea cu care veti  gati. Chef  Tiberius este aici sa va invete cum sa gatiti cat mai sanatos dar si eficient in acelasi timp. Trebuie doar sa va lasati imaginatia sa zboare. In bucătarie totul poate fi reparat cat ai zice Chef ! \nFiecare curs are o tematica diferita\, meniuri diferite\, toate dupa un concept construit astfel incat atat incepatorii ale bucatariei sa traiasca o experienta delicioasa pe care o pot reproduce apoi acasa cu familia. \nNu trebuie sa aduceti nimic\, costul cursului cuprinde toate ingredientele si ustensilele. Cursurile dureaza 4 saptamani\, in fiecare Joi orele 18:00 iar o sedinta 3 ore de gatit.  Pret: 450 ron/persPentru inscrieri va rugam sa ne trimiteti numele si numarul de telefon al dumneavoastra la adresa  office@cheftiberius.ro \nLocurile sunt limitate\, va asteptam cu drag \nhttps://www.facebook.com/events/292752047925603/ \n
URL:https://ghidlocal.com/oradea/eveniment/curs-de-gatit-pentru-incepatori-cu-chef-tiberius/
LOCATION:Chef Tiberius – Culinary Marketing\, Chef Tiberius - Culinary Marketing
CATEGORIES:Culinar
ATTACH;FMTTYPE=image/jpeg:https://cdn.cluj.com/ghidlocalcom/sites/2/2019/01/Curs-de-Gatit-pentru-incepatori-cu-Chef-Tiberius-.jpg
END:VEVENT
END:VCALENDAR