BEGIN:VCALENDAR
VERSION:2.0
PRODID:-//Oradea - ECPv5.1.1//NONSGML v1.0//EN
CALSCALE:GREGORIAN
METHOD:PUBLISH
X-WR-CALNAME:Oradea
X-ORIGINAL-URL:https://ghidlocal.com/oradea
X-WR-CALDESC:Events for Oradea
BEGIN:VTIMEZONE
TZID:Europe/Bucharest
BEGIN:DAYLIGHT
TZOFFSETFROM:+0200
TZOFFSETTO:+0300
TZNAME:EEST
DTSTART:20160327T010000
END:DAYLIGHT
BEGIN:STANDARD
TZOFFSETFROM:+0300
TZOFFSETTO:+0200
TZNAME:EET
DTSTART:20161030T010000
END:STANDARD
END:VTIMEZONE
BEGIN:VEVENT
DTSTART;TZID=Europe/Bucharest:20161012T200000
DTEND;TZID=Europe/Bucharest:20161012T230000
DTSTAMP:20260420T145358
CREATED:20161010T064837Z
LAST-MODIFIED:20161010T064837Z
UID:4026-1476302400-1476313200@ghidlocal.com
SUMMARY:Curs de filosofie aplicată
DESCRIPTION:Cursul de Filosofie aplicată oferă o incursiune în filosofia lumii urmărind identificarea soluțiilor actuale pentru provocările condiției umane.\nCursul de Filosofie aplicată urmărește principiile studiului comparat\, fiind abordate atât filosofia occidentală (Platon\, Aristotel\, Plotin\, Epictet\, Seneca\, Marcus Aurelius\, Kant)\, cât și filosofia Indiei\, a Tibetului și a Chinei. \nTemele abordate includ: omul\, cosmosul\, legea și acțiunea\, mistica\, etica\, societatea\, politica\, voința\, fericirea\, frumosul\, istoria\, timpul și sufletul. \nMai multe informații se pot obține la telefon 0755 292 542\, e-mail na-oradea@noua-acropola.ro. Înscrieri se pot face la prezentare. \n„Asociaţia culturală Noua Acropolă desfăşoară activităţi de Filosofie\, Cultură şi Voluntariat. De 2 ani prezentă şi în Oradea\, Noua Acropolă a propus activităţi de filosofie\, cultură şi voluntariat. Facem parte din acel nucleu al societăţii care nu se mulţumeşte să vorbească despre solidaritate\, toleranţă\, dăruire\, generozitate\, acţiune dezinteresată\, ci îşi propune practica acestor valori” – sursă text AICI. \n\n
URL:https://ghidlocal.com/oradea/eveniment/curs-de-filosofie-aplicata/
LOCATION:Asociația Culturală „Noua Acropolă” Oradea\, P-ta Unirii\, numărul 5\, apartament 10\, interfon 7\, Oradea\, Bihor\, România
CATEGORIES:Cultural
ATTACH;FMTTYPE=image/jpeg:https://cdn.cluj.com/ghidlocalcom/sites/2/2016/09/Filosofie_aplicata_curs_Asociatia_Culturala_Noua_Acropola.jpg
END:VEVENT
END:VCALENDAR