BEGIN:VCALENDAR
VERSION:2.0
PRODID:-//Oradea - ECPv5.1.1//NONSGML v1.0//EN
CALSCALE:GREGORIAN
METHOD:PUBLISH
X-WR-CALNAME:Oradea
X-ORIGINAL-URL:https://ghidlocal.com/oradea
X-WR-CALDESC:Events for Oradea
BEGIN:VTIMEZONE
TZID:Europe/Bucharest
BEGIN:DAYLIGHT
TZOFFSETFROM:+0200
TZOFFSETTO:+0300
TZNAME:EEST
DTSTART:20190331T010000
END:DAYLIGHT
BEGIN:STANDARD
TZOFFSETFROM:+0300
TZOFFSETTO:+0200
TZNAME:EET
DTSTART:20191027T010000
END:STANDARD
END:VTIMEZONE
BEGIN:VEVENT
DTSTART;TZID=Europe/Bucharest:20190201T153000
DTEND;TZID=Europe/Bucharest:20190201T173000
DTSTAMP:20260424T171305
CREATED:20190130T115428Z
LAST-MODIFIED:20190130T120441Z
UID:24451-1549035000-1549042200@ghidlocal.com
SUMMARY:CSM CSU Oradea - CSU Sibiu
DESCRIPTION:Ne reîntâlnim cu baschetul! De data aceasta sperăm să fie cu victorie! \nÎntâlnim BC CSU Sibiu în etapa a 3-a a Grupei Roșii din Liga Națională și avem nevoie de tot suportul vostru pentru a simți din nou gustul victoriei. Biletele se pot achiziționa on-line\, aici: https://bit.ly/2B8LcIH \n#HaiCSM \nhttps://www.facebook.com/events/319873805401405/ \n
URL:https://ghidlocal.com/oradea/eveniment/csm-csu-oradea-csu-sibiu/
LOCATION:Arena Antonio Alexe\, Arena Antonio Alexe
CATEGORIES:Sport
ATTACH;FMTTYPE=image/jpeg:https://cdn.cluj.com/ghidlocalcom/sites/2/2019/01/CSM-CSU-Oradea-CSU-Sibiu-.jpg
END:VEVENT
END:VCALENDAR