BEGIN:VCALENDAR
VERSION:2.0
PRODID:-//Oradea - ECPv5.1.1//NONSGML v1.0//EN
CALSCALE:GREGORIAN
METHOD:PUBLISH
X-WR-CALNAME:Oradea
X-ORIGINAL-URL:https://ghidlocal.com/oradea
X-WR-CALDESC:Events for Oradea
BEGIN:VTIMEZONE
TZID:Europe/Bucharest
BEGIN:DAYLIGHT
TZOFFSETFROM:+0200
TZOFFSETTO:+0300
TZNAME:EEST
DTSTART:20170326T010000
END:DAYLIGHT
BEGIN:STANDARD
TZOFFSETFROM:+0300
TZOFFSETTO:+0200
TZNAME:EET
DTSTART:20171029T010000
END:STANDARD
END:VTIMEZONE
BEGIN:VEVENT
DTSTART;TZID=Europe/Bucharest:20170214T180000
DTEND;TZID=Europe/Bucharest:20170214T210000
DTSTAMP:20260423T054533
CREATED:20170213T082808Z
LAST-MODIFIED:20170213T082808Z
UID:7604-1487095200-1487106000@ghidlocal.com
SUMMARY:Conferința Părintelui Constantin Necula
DESCRIPTION:Marți\, 14 februarie 2017\, începând cu ora 18:00\, va avea loc o conferință susținută de Părintele Constantin Necula.\nAceastă conferință susținută de Pr. Conf. Univ. Constantin Necula va avea loc la Catedrala Episcopală Învierea Domnului\, din Centrul Civic. Tema acestui eveniment va fi „Familia\, laboratorul educației pentru Înviere”. \nEvenimentul este organizat de reprezentanții Liceului Ortodox „Episcop Roman Ciorogariu” Oradea. Vezi mai multe informații AICI. \n\n
URL:https://ghidlocal.com/oradea/eveniment/conferinta-parintelui-constantin-necula/
LOCATION:Catedrala Episcopală Învierea Domnului\, Centrul Civic\, Oradea\, Bihor\, România
CATEGORIES:Conferinte
ATTACH;FMTTYPE=image/jpeg:https://cdn.cluj.com/ghidlocalcom/sites/2/2017/02/conferinta_pr_constantin_necula.jpg
ORGANIZER;CN="Liceul%20Ortodox%20%E2%80%9EEpiscop%20Roman%20Ciorogariu%E2%80%9D":MAILTO:licortoradea@yahoo.com
END:VEVENT
END:VCALENDAR