BEGIN:VCALENDAR
VERSION:2.0
PRODID:-//Oradea - ECPv5.1.1//NONSGML v1.0//EN
CALSCALE:GREGORIAN
METHOD:PUBLISH
X-WR-CALNAME:Oradea
X-ORIGINAL-URL:https://ghidlocal.com/oradea
X-WR-CALDESC:Events for Oradea
BEGIN:VTIMEZONE
TZID:Europe/Bucharest
BEGIN:DAYLIGHT
TZOFFSETFROM:+0200
TZOFFSETTO:+0300
TZNAME:EEST
DTSTART:20190331T010000
END:DAYLIGHT
BEGIN:STANDARD
TZOFFSETFROM:+0300
TZOFFSETTO:+0200
TZNAME:EET
DTSTART:20191027T010000
END:STANDARD
END:VTIMEZONE
BEGIN:VEVENT
DTSTART;TZID=Europe/Bucharest:20190321T190000
DTEND;TZID=Europe/Bucharest:20190321T210000
DTSTAMP:20260423T030819
CREATED:20190311T064435Z
LAST-MODIFIED:20190311T065431Z
UID:24864-1553194800-1553202000@ghidlocal.com
SUMMARY:Conferința F.A.B - Feminitate\, Ambiție\, Bunătate
DESCRIPTION:The Future is #Female!\nUniversitatea din Oradea\, prin Departamentul de Relații Internaționale și Studii Europene și Departamentul de Arte Vizuale organizează o conferință dedicată emancipării femeilor. Evenimentul va avea loc în Aula Magna a Universității din Oradea începând cu ora 19.00. \nAceasta va fi prima conferință F.A.B din Oradea dedicată celebrării lunii dedicate istoriei femeilor. Mihaela Tatu\, Ligia Burtă\, Olimpia Urdea\, Hermina Popa vor împărtăși experiențele lor de viață și vor discuta despre ce înseamnă să fii o femeie de succes\, împreună cu alte subiecte dedicate feminității. \nInvitatul principal al conferinței este Mihaela Tatu. În cadrul experienței sale de peste 22 de ani\, Mihaela Tatu a fost invitată la numeroase conferințe TEDx\, fiind o personalitate de radio și TV cunoscută la nivel național. Prin activitatea sa\, a ajutat numeroși oameni să își găsească adevărata vocație. La eveniment vor mai participa femei din toate domeniile de activitate – artă\, afaceri\, medicină\, educație. Conferința este deschisă tuturor interesați de acest domeniu. Ne dorim să educăm\, inspirăm și să contribuim la emanciparea femeilor. \nhttps://www.facebook.com/events/373722309882629/ \n
URL:https://ghidlocal.com/oradea/eveniment/conferinta-f-a-b-feminitate-ambitie-bunatate/
LOCATION:Aula Magna\, Aula Magna
CATEGORIES:Conferinte
ATTACH;FMTTYPE=image/jpeg:https://cdn.cluj.com/ghidlocalcom/sites/2/2019/03/Conferint%CC%A6a-F.A.B-Feminitate-Ambit%CC%A6ie-Buna%CC%86tate-.jpg
END:VEVENT
END:VCALENDAR