BEGIN:VCALENDAR
VERSION:2.0
PRODID:-//Oradea - ECPv5.1.1//NONSGML v1.0//EN
CALSCALE:GREGORIAN
METHOD:PUBLISH
X-WR-CALNAME:Oradea
X-ORIGINAL-URL:https://ghidlocal.com/oradea
X-WR-CALDESC:Events for Oradea
BEGIN:VTIMEZONE
TZID:Europe/Bucharest
BEGIN:DAYLIGHT
TZOFFSETFROM:+0200
TZOFFSETTO:+0300
TZNAME:EEST
DTSTART:20170326T010000
END:DAYLIGHT
BEGIN:STANDARD
TZOFFSETFROM:+0300
TZOFFSETTO:+0200
TZNAME:EET
DTSTART:20171029T010000
END:STANDARD
END:VTIMEZONE
BEGIN:VEVENT
DTSTART;TZID=Europe/Bucharest:20170105T190000
DTEND;TZID=Europe/Bucharest:20170105T210000
DTSTAMP:20260420T115801
CREATED:20161230T093350Z
LAST-MODIFIED:20161230T093414Z
UID:6623-1483642800-1483650000@ghidlocal.com
SUMMARY:Concert simfonic de Anul Nou
DESCRIPTION:Cele trei Concerte de Anul Nou\, cu program identic\, se vor desfăşura joi\, vineri și sâmbătă\, în sala Filarmonicii.\nAm pregătit şi în acest an un program deosebit de variat şi colorat\, pentru a aduce puţină veselie în sufletele ascultătorilor imediat după ce Anul Nou și-a făcut apariția. Potrivit tradiţiei deceniilor trecute\, programul nostru cuprinde lucrări celebre semnate de compozitorul vienez Johann Strauss (Marș egiptean\, polka-mazurka Stad und Land\, valsul Vocile primăverii\, uvertura Voievodul țiganilor\, polca Leichtes Blut și Banditen Galopp\, valsul Dunărea albastră)\, precum şi o serie de fragmente din capodoperele mai jos menţionate ale unor autori celebri\, precum Lehár Ferenc (Văduva veselă – aria Viljei)\, Otto Nicolai (uvertura Nevestele vesele din Winsdor)\, Léo Delibes („Les filles de Cadix”)\, Charles Ghounod („Avant de quitter ces lieux”)\, Gaetano Donizetti (Don Pasquale – „Pronta io Son”)\, Wofgang Amadeus Mozart (Don Giovanni – „Fin Ch’an dal vino”)\, Ruggero Leoncavallo (Pagliacci – „Nedda”). \nProgram: \nJoi\, 5 ianuarie 2017\, ora19.00\nVineri\, 6 ianuarie 2017\, ora 19.00\nSâmbătă\, 7 ianuarie 2017\, ora 19.00\nSala de concerte „Enescu-Bartók” \nDirijor: THEO WOLTERS (Olanda)\nSoliști: SILVIA MICU – soprană\nALEXANDRU CONSTANTIN – bariton \nSursă text AICI. Informații bilete și abonamente AICI. \n
URL:https://ghidlocal.com/oradea/eveniment/concert-simfonic-de-anul-nou/
LOCATION:Filarmonica de Stat din Oradea\, Str. Moscovei\, nr. 5\, Oradea\, Bihor\, 410001\, România
CATEGORIES:Concerte,Cultural
ATTACH;FMTTYPE=image/jpeg:https://cdn.cluj.com/ghidlocalcom/sites/2/2016/12/concert_simfonic_5_6_7_ianuarie_2017.jpg
ORGANIZER;CN="Filarmonica%20de%20Stat%20din%20Oradea":MAILTO:filarmonica.oradea@yahoo.com
END:VEVENT
END:VCALENDAR