BEGIN:VCALENDAR
VERSION:2.0
PRODID:-//Oradea - ECPv5.1.1//NONSGML v1.0//EN
CALSCALE:GREGORIAN
METHOD:PUBLISH
X-WR-CALNAME:Oradea
X-ORIGINAL-URL:https://ghidlocal.com/oradea
X-WR-CALDESC:Events for Oradea
BEGIN:VTIMEZONE
TZID:Europe/Bucharest
BEGIN:DAYLIGHT
TZOFFSETFROM:+0200
TZOFFSETTO:+0300
TZNAME:EEST
DTSTART:20190331T010000
END:DAYLIGHT
BEGIN:STANDARD
TZOFFSETFROM:+0300
TZOFFSETTO:+0200
TZNAME:EET
DTSTART:20191027T010000
END:STANDARD
END:VTIMEZONE
BEGIN:VEVENT
DTSTART;TZID=Europe/Bucharest:20190125T180000
DTEND;TZID=Europe/Bucharest:20190125T200000
DTSTAMP:20260424T233951
CREATED:20190124T140452Z
LAST-MODIFIED:20190124T141258Z
UID:24339-1548439200-1548446400@ghidlocal.com
SUMMARY:Concert Mircea Vintilă!
DESCRIPTION:Mircea Vintilă la Bistro Blues Caffe! \nVino vineri\, 25 ianuarie\, ora 20:00 la Bistro Blues Caffe să ne bucurăm împreună de un concert extraordinar! \nRezervări si informatii la 0722348742.Pret bilet 25 lei + 25 lei meniu \nhttps://www.facebook.com/events/2286443151590322/ \n
URL:https://ghidlocal.com/oradea/eveniment/concert-mircea-vintila/
LOCATION:Bistro Blues Caffe\, Bistro Blues Caffe
CATEGORIES:Concerte
ATTACH;FMTTYPE=image/jpeg:https://cdn.cluj.com/ghidlocalcom/sites/2/2019/01/Concert-Mircea-Vintila%CC%86.jpg
END:VEVENT
END:VCALENDAR