BEGIN:VCALENDAR
VERSION:2.0
PRODID:-//Oradea - ECPv5.1.1//NONSGML v1.0//EN
CALSCALE:GREGORIAN
METHOD:PUBLISH
X-WR-CALNAME:Oradea
X-ORIGINAL-URL:https://ghidlocal.com/oradea
X-WR-CALDESC:Events for Oradea
BEGIN:VTIMEZONE
TZID:Europe/Bucharest
BEGIN:DAYLIGHT
TZOFFSETFROM:+0200
TZOFFSETTO:+0300
TZNAME:EEST
DTSTART:20190331T010000
END:DAYLIGHT
BEGIN:STANDARD
TZOFFSETFROM:+0300
TZOFFSETTO:+0200
TZNAME:EET
DTSTART:20191027T010000
END:STANDARD
END:VTIMEZONE
BEGIN:VEVENT
DTSTART;TZID=Europe/Bucharest:20190503T200000
DTEND;TZID=Europe/Bucharest:20190503T220000
DTSTAMP:20260425T005911
CREATED:20190414T120947Z
LAST-MODIFIED:20190414T123155Z
UID:25228-1556913600-1556920800@ghidlocal.com
SUMMARY:Concert MIRCEA BANICIU & Vlady Cnejevici si Teo Boar
DESCRIPTION:Bistro Blues Caffe Oradea\, te invită\, vineri\, 3 Mai\, începând cu ora 20:00\, la un concert MIRCEA BANICIU & Vlady Cnejevici si Teo Boar! \nMIRCEA BANICIU impreuna cu VLADY CNEJEVICI si TEO BOAR (membrii ai trupelor:( PASAREA COLIBRI\, MIRCEA BANICIU & BAND\, PACIFICA si MIRCEA RUSU BAND)\, formeaza trupa MIRCEA BANICIU & BAND. In aceasta formula interpreteaza cele mai de succes cantece cum ar fi: ANDRI POPA\, ESARFA IN DAR\, TRISTETI PROVINCIALE\, VARA LA TARA\, INTELEGERE\, VREMURI\, CANTECUL CEASORNICARULUI si multe altele!\nMircea Baniciu (n. 31 iulie 1949\, Timișoara) este un cântăreț și chitarist român. S-a remarcat în muzica românească la începutul anilor ’70 când a devenit solist vocal al formației rock Phoenix. După fuga colegilor săi din țară în 1977\, începe o carieră solo\, timp în care scoate pe piață un EP și 4 albume. În 1992 a fondat trupa Pasărea Colibri\, alături de Florian Pittiș\, Mircea Vintilă și Vlady Cnejevici\, cu care a cântat zece ani\, răstimp în care au apărut pe piață 5 albume și un DVD. În 2002 revine în trupa Phoenix cu ocazia concertului aniversar Phoenix 40 de ani. În toamna anului 2007 părăsește din nou Phoenix pentru a-și continua cariera solo impreuna cu Vlady Cnejevici si Teo Boar. \nVino la Bistro Blues Caffe să fii aproape de artiștii tăi preferați și să te bucuri de muzica lor\, într-o atmosferă unică! \nBilet 70 lei+ 25 lei meniu \nInformaţii şi rezervări: 0722348742 \nhttps://www.facebook.com/events/2111850412184070/ \n
URL:https://ghidlocal.com/oradea/eveniment/concert-mircea-baniciu-vlady-cnejevici-si-teo-boar/
LOCATION:Bistro Blues Caffe\, Bistro Blues Caffe
CATEGORIES:Concerte
ATTACH;FMTTYPE=image/jpeg:https://cdn.cluj.com/ghidlocalcom/sites/2/2019/04/Concert-MIRCEA-BANICIU-Vlady-Cnejevici-si-Teo-Boar-.jpg
END:VEVENT
END:VCALENDAR