BEGIN:VCALENDAR
VERSION:2.0
PRODID:-//Oradea - ECPv5.1.1//NONSGML v1.0//EN
CALSCALE:GREGORIAN
METHOD:PUBLISH
X-WR-CALNAME:Oradea
X-ORIGINAL-URL:https://ghidlocal.com/oradea
X-WR-CALDESC:Events for Oradea
BEGIN:VTIMEZONE
TZID:Europe/Bucharest
BEGIN:DAYLIGHT
TZOFFSETFROM:+0200
TZOFFSETTO:+0300
TZNAME:EEST
DTSTART:20190331T010000
END:DAYLIGHT
BEGIN:STANDARD
TZOFFSETFROM:+0300
TZOFFSETTO:+0200
TZNAME:EET
DTSTART:20191027T010000
END:STANDARD
END:VTIMEZONE
BEGIN:VEVENT
DTSTART;TZID=Europe/Bucharest:20190308T200000
DTEND;TZID=Europe/Bucharest:20190308T230000
DTSTAMP:20260421T060047
CREATED:20190225T064643Z
LAST-MODIFIED:20190304T000953Z
UID:24710-1552075200-1552086000@ghidlocal.com
SUMMARY:Concert Live Mihai Baneș & Party Band - Special Guest Dj Vicks
DESCRIPTION:Vineri\, 08 martie 2019\, de Ziua Femeii\, începând cu ora 20:00\, vă așteptăm la un concert live cu Mihai Banes & Party Band –\nSpecial Guest Dj Vicks.\nVă vom încânta simțurile cu hituri actuale și retro\, muzică pentru toate vârstele și gusturile.\nBilete și rezervări la 0748228822 sau 0722390091 \nhttps://www.facebook.com/events/660296314388824/ \n
URL:https://ghidlocal.com/oradea/eveniment/concert-live-mihai-banes-party-band-special-guest-dj-vicks/
LOCATION:Grand Palace Oradea\, Grand Palace Oradea
CATEGORIES:Concerte
ATTACH;FMTTYPE=image/jpeg:https://cdn.cluj.com/ghidlocalcom/sites/2/2019/02/Concert-Live-Mandinga-lansare-single-Provocador.jpg
END:VEVENT
END:VCALENDAR