BEGIN:VCALENDAR
VERSION:2.0
PRODID:-//Oradea - ECPv5.1.1//NONSGML v1.0//EN
CALSCALE:GREGORIAN
METHOD:PUBLISH
X-WR-CALNAME:Oradea
X-ORIGINAL-URL:https://ghidlocal.com/oradea
X-WR-CALDESC:Events for Oradea
BEGIN:VTIMEZONE
TZID:Europe/Bucharest
BEGIN:DAYLIGHT
TZOFFSETFROM:+0200
TZOFFSETTO:+0300
TZNAME:EEST
DTSTART:20160327T010000
END:DAYLIGHT
BEGIN:STANDARD
TZOFFSETFROM:+0300
TZOFFSETTO:+0200
TZNAME:EET
DTSTART:20161030T010000
END:STANDARD
END:VTIMEZONE
BEGIN:VEVENT
DTSTART;TZID=Europe/Bucharest:20160918T200000
DTEND;TZID=Europe/Bucharest:20160918T220000
DTSTAMP:20260422T183218
CREATED:20160909T085419Z
LAST-MODIFIED:20160909T085419Z
UID:3212-1474228800-1474236000@ghidlocal.com
SUMMARY:Concert: Joshua Nelson
DESCRIPTION:În curând va concerta la Oradea JOSHUA NELSON\, creatorul muzicii Kosher Gospel!\nSinagoga Neologă Zion va găzdui din nou un eveniment important. De această dată\, ritmurile care vor rezona în imensa clădire vor fi date de muzicianul Joshua Nelson în data de 18 septembrie\, începând cu ora 19:00. Recitalul de pian în combinație cu vocea-i unică vor oferi posibilitatea publicului orădean de a interacționa cu stilul energic al artistului. \n„Pianist și solist vocal de origine afro-americană\, el îmbină muzica gospel și cea evreiască într-o manieră aparte\, fiind asemănat deseori pentru esența și originalitatea muzicii sale cu John Coltrane\, unul din titanii jazzului. Ghidat de originile sale și valorile în mijlocul cărora a fost crescut\, Joshua Nelson pune bazele stilului Kosher Gospel și reușește cu fiecare concert să transforme sala de spectacol într-un univers încărcat cu energie pozitivă” – sursă text AICI. \n*Biletele sunt disponibile la Sinagoga Neologa Zion (strada Independenţei\, numărul 22). Preţul unui bilet este de 3 lei. Concertul este organizat de Fundația TARBUT\, cu sprijinul Transylvania Cultural Community și al Ambasadei SUA în România.  \nVă dorim audiție plăcută! \n\n
URL:https://ghidlocal.com/oradea/eveniment/concert-joshua-nelson/
LOCATION:Sinagoga Neologă Zion\, Str. Independenței\, nr. 22\, Oradea\, Bihor\, România
CATEGORIES:Concerte
ATTACH;FMTTYPE=image/jpeg:https://cdn.cluj.com/ghidlocalcom/sites/2/2016/09/Concert_Joshua_Nelson_Sinagoga_Zion_Oradea.jpg
END:VEVENT
END:VCALENDAR