BEGIN:VCALENDAR
VERSION:2.0
PRODID:-//Oradea - ECPv5.1.1//NONSGML v1.0//EN
CALSCALE:GREGORIAN
METHOD:PUBLISH
X-WR-CALNAME:Oradea
X-ORIGINAL-URL:https://ghidlocal.com/oradea
X-WR-CALDESC:Events for Oradea
BEGIN:VTIMEZONE
TZID:Europe/Bucharest
BEGIN:DAYLIGHT
TZOFFSETFROM:+0200
TZOFFSETTO:+0300
TZNAME:EEST
DTSTART:20190331T010000
END:DAYLIGHT
BEGIN:STANDARD
TZOFFSETFROM:+0300
TZOFFSETTO:+0200
TZNAME:EET
DTSTART:20191027T010000
END:STANDARD
END:VTIMEZONE
BEGIN:VEVENT
DTSTART;TZID=Europe/Bucharest:20190207T170000
DTEND;TZID=Europe/Bucharest:20190207T200000
DTSTAMP:20260421T054624
CREATED:20190124T140500Z
LAST-MODIFIED:20190130T121740Z
UID:24393-1549558800-1549569600@ghidlocal.com
SUMMARY:Concert in Oradea
DESCRIPTION:Filarmonica de Stat Oradea Conductor – Walter HilgersVioloncello – Joanna Sachyn  \nRossini\, Gioacchino: „Il signor Bruschino” Overture                                                                                                                                                                              Edward Elgar – Cello Concertos in e – minor\, op.85–––––––––––-Max Bruch – Symphony No.1 in E-Flat Major\, op.28 \nhttps://www.facebook.com/events/1436856753028186/ \n
URL:https://ghidlocal.com/oradea/eveniment/concert-in-oradea/
LOCATION:Filarmonica de Stat Oradea\, Filarmonica de Stat Oradea
CATEGORIES:Concerte
ATTACH;FMTTYPE=image/jpeg:https://cdn.cluj.com/ghidlocalcom/sites/2/2019/01/Concert-in-Oradea-.jpg
END:VEVENT
END:VCALENDAR