BEGIN:VCALENDAR
VERSION:2.0
PRODID:-//Oradea - ECPv5.1.1//NONSGML v1.0//EN
CALSCALE:GREGORIAN
METHOD:PUBLISH
X-WR-CALNAME:Oradea
X-ORIGINAL-URL:https://ghidlocal.com/oradea
X-WR-CALDESC:Events for Oradea
BEGIN:VTIMEZONE
TZID:Europe/Bucharest
BEGIN:DAYLIGHT
TZOFFSETFROM:+0200
TZOFFSETTO:+0300
TZNAME:EEST
DTSTART:20180325T010000
END:DAYLIGHT
BEGIN:STANDARD
TZOFFSETFROM:+0300
TZOFFSETTO:+0200
TZNAME:EET
DTSTART:20181028T010000
END:STANDARD
END:VTIMEZONE
BEGIN:VEVENT
DTSTART;TZID=Europe/Bucharest:20180902T203000
DTEND;TZID=Europe/Bucharest:20180902T220000
DTSTAMP:20260421T061445
CREATED:20180827T090353Z
LAST-MODIFIED:20180827T095412Z
UID:23448-1535920200-1535925600@ghidlocal.com
SUMMARY:Concert FiRMA la The Big Picnic 2018
DESCRIPTION:Concert FiRMA la The Big Picnic 2018 \nFiRMA\, una dintre trupele icon ale rockului alternativ românesc\, vine la The BIG Picnic 2018.\nNe vedem cu ei la scenă în ultima zi de festival\, pe 2 septembrie\, de la 20.30. \nNu știm voi\, dar noi abia așteptăm să cîntăm alături de artiști „Doar nebunii iubesc” și „Două suflete”. \nFor the love of music\, acccesul la toate concertele The BIG Picnic este gratuit.  \nSo\, join us! \n
URL:https://ghidlocal.com/oradea/eveniment/concert-firma-la-the-big-picnic-2018/
LOCATION:Parcul 1 Decembrie\, Oradea\, RO
CATEGORIES:Concerte,Festival
ATTACH;FMTTYPE=image/jpeg:https://cdn.cluj.com/ghidlocalcom/sites/2/2018/08/Concert-FiRMA-la-The-Big-Picnic-2018.jpg
END:VEVENT
END:VCALENDAR