BEGIN:VCALENDAR
VERSION:2.0
PRODID:-//Oradea - ECPv5.1.1//NONSGML v1.0//EN
CALSCALE:GREGORIAN
METHOD:PUBLISH
X-WR-CALNAME:Oradea
X-ORIGINAL-URL:https://ghidlocal.com/oradea
X-WR-CALDESC:Events for Oradea
BEGIN:VTIMEZONE
TZID:Europe/Bucharest
BEGIN:DAYLIGHT
TZOFFSETFROM:+0200
TZOFFSETTO:+0300
TZNAME:EEST
DTSTART:20190331T010000
END:DAYLIGHT
BEGIN:STANDARD
TZOFFSETFROM:+0300
TZOFFSETTO:+0200
TZNAME:EET
DTSTART:20191027T010000
END:STANDARD
END:VTIMEZONE
BEGIN:VEVENT
DTSTART;TZID=Europe/Bucharest:20190124T170000
DTEND;TZID=Europe/Bucharest:20190124T190000
DTSTAMP:20260424T144423
CREATED:20190124T135646Z
LAST-MODIFIED:20190124T140755Z
UID:24326-1548349200-1548356400@ghidlocal.com
SUMMARY:Concert Extraordinar - Uniți in cuget și-n simtiri
DESCRIPTION:Vă invităm în data de 24 ianuarie 2019\, orele 19.00 la Sala Teatrului Regina Maria să sărbătorim 160 de ani de la înfăptuirea Unirii! În concert Mioara Velicu\, Niculina Stoican\, Leontin Ciucur\, Luminița Tomuța\, Petrică Popa\, Cornelia Covaciu\, Stângaciu\, Felicia Costin\, George Voinese\, formația de dansuri și orchestra dirijată de Adrian Miescu. Biletele se gasesc la Agenția teatrului sau pe www.biletmaster.ro \nhttps://www.facebook.com/events/365089690969439/ \n
URL:https://ghidlocal.com/oradea/eveniment/concert-extraordinar-uniti-in-cuget-si-n-simtiri/
LOCATION:Teatrul Regina Maria\, Teatrul Regina Maria
CATEGORIES:Concerte
ATTACH;FMTTYPE=image/jpeg:https://cdn.cluj.com/ghidlocalcom/sites/2/2019/01/Concert-Extraordinar-Unit%CC%A6i-in-cuget-s%CC%A6i-n-simtiri.jpg
END:VEVENT
END:VCALENDAR