BEGIN:VCALENDAR
VERSION:2.0
PRODID:-//Oradea - ECPv5.1.1//NONSGML v1.0//EN
CALSCALE:GREGORIAN
METHOD:PUBLISH
X-WR-CALNAME:Oradea
X-ORIGINAL-URL:https://ghidlocal.com/oradea
X-WR-CALDESC:Events for Oradea
BEGIN:VTIMEZONE
TZID:Europe/Bucharest
BEGIN:DAYLIGHT
TZOFFSETFROM:+0200
TZOFFSETTO:+0300
TZNAME:EEST
DTSTART:20190331T010000
END:DAYLIGHT
BEGIN:STANDARD
TZOFFSETFROM:+0300
TZOFFSETTO:+0200
TZNAME:EET
DTSTART:20191027T010000
END:STANDARD
END:VTIMEZONE
BEGIN:VEVENT
DTSTART;TZID=Europe/Bucharest:20190308T190000
DTEND;TZID=Europe/Bucharest:20190308T210000
DTSTAMP:20260420T192806
CREATED:20190303T235432Z
LAST-MODIFIED:20190304T001159Z
UID:24778-1552071600-1552078800@ghidlocal.com
SUMMARY:Concert Extraordinar "DE ZIUA TA"
DESCRIPTION:Concert Extraordinar ” DE ZIUA TA ” cu artiștii ansamblului Leontin Ciucur \, Cornel Borza\, Luminita Tomuta Baba\, Petrica Popa\, Cornelia Covaciu Rugea\, Stangaciu Ghiţă\, Felicia Costin\, orchestra și corpul de dansatori și invitați de seamă\, Homorodean Ovidiu\, Valeria Si Traian Ilea. Coregrafia: Ion Bencheci\, Dirijor: Miescu Adrian \nhttps://www.facebook.com/events/1134687710026301/ \n
URL:https://ghidlocal.com/oradea/eveniment/concert-extraordinar-de-ziua-ta-2/
LOCATION:Teatrul Regina Maria\, Teatrul Regina Maria
CATEGORIES:Concerte
ATTACH;FMTTYPE=image/jpeg:https://cdn.cluj.com/ghidlocalcom/sites/2/2019/03/Concert-Extraordinar-22DE-ZIUA-TA22-.jpg
END:VEVENT
END:VCALENDAR