BEGIN:VCALENDAR
VERSION:2.0
PRODID:-//Oradea - ECPv5.1.1//NONSGML v1.0//EN
CALSCALE:GREGORIAN
METHOD:PUBLISH
X-WR-CALNAME:Oradea
X-ORIGINAL-URL:https://ghidlocal.com/oradea
X-WR-CALDESC:Events for Oradea
BEGIN:VTIMEZONE
TZID:Europe/Bucharest
BEGIN:DAYLIGHT
TZOFFSETFROM:+0200
TZOFFSETTO:+0300
TZNAME:EEST
DTSTART:20190331T010000
END:DAYLIGHT
BEGIN:STANDARD
TZOFFSETFROM:+0300
TZOFFSETTO:+0200
TZNAME:EET
DTSTART:20191027T010000
END:STANDARD
END:VTIMEZONE
BEGIN:VEVENT
DTSTART;TZID=Europe/Bucharest:20190416T190000
DTEND;TZID=Europe/Bucharest:20190416T210000
DTSTAMP:20260421T041259
CREATED:20190318T072134Z
LAST-MODIFIED:20190401T074240Z
UID:24962-1555441200-1555448400@ghidlocal.com
SUMMARY:Concert extraordinar de Paste editia a 5-a “Sustine un batran singur”
DESCRIPTION:Transylvanian Debates in parteneriat cu Spitalul Clinic Judetean de Urgenta Oradea si colaborator Fundatia Pentru Smurd va invita sa fiti alaturi de noi la un eveniment incarcat cu multa emotie. \nDe ce? \nPentru ca doua voci de exceptie ale muzicii Romanesti vor fi prezente la Oradea\, Paula Seling si Laura Bretan vor canta din suflet si multa daruire pentru viata si energia campaniei “Sustine un Batran Singur” \nVino si tu sa ajuti un batran singur sa zambeasca! \nDonatia sugerata este de minim 50 Lei* pe persoana. \n*Intrarea este libera\, insa locurile sunt limitate\, va rugam pentru participare sa va rezervati locurile din timp. \nhttps://www.facebook.com/events/548268362361902/ \n
URL:https://ghidlocal.com/oradea/eveniment/concert-extraordinar-de-paste-editia-a-5-a-sustine-un-batran-singur/
LOCATION:Biserica Romano – Catolica Sfantul Spirit\, Biserica Romano - Catolica Sfantul Spirit
CATEGORIES:Concerte
ATTACH;FMTTYPE=image/jpeg:https://cdn.cluj.com/ghidlocalcom/sites/2/2019/03/Concert-extraordinar-de-Paste-editia-a-5-a-%E2%80%9CSustine-un-batran-singur%E2%80%9D-.jpg
END:VEVENT
END:VCALENDAR