BEGIN:VCALENDAR
VERSION:2.0
PRODID:-//Oradea - ECPv5.1.1//NONSGML v1.0//EN
CALSCALE:GREGORIAN
METHOD:PUBLISH
X-WR-CALNAME:Oradea
X-ORIGINAL-URL:https://ghidlocal.com/oradea
X-WR-CALDESC:Events for Oradea
BEGIN:VTIMEZONE
TZID:Europe/Bucharest
BEGIN:DAYLIGHT
TZOFFSETFROM:+0200
TZOFFSETTO:+0300
TZNAME:EEST
DTSTART:20190331T010000
END:DAYLIGHT
BEGIN:STANDARD
TZOFFSETFROM:+0300
TZOFFSETTO:+0200
TZNAME:EET
DTSTART:20191027T010000
END:STANDARD
END:VTIMEZONE
BEGIN:VEVENT
DTSTART;TZID=Europe/Bucharest:20190306T190000
DTEND;TZID=Europe/Bucharest:20190306T220000
DTSTAMP:20260420T112410
CREATED:20190303T235430Z
LAST-MODIFIED:20190304T001336Z
UID:24776-1551898800-1551909600@ghidlocal.com
SUMMARY:Concert Direcția 5 @ Slavia Salonta
DESCRIPTION:https://www.facebook.com/events/787325104978543/ \n
URL:https://ghidlocal.com/oradea/eveniment/concert-directia-5-slavia-salonta/
LOCATION:Hotel & Restaurant Slavia\, Hotel & Restaurant Slavia
CATEGORIES:Concerte
ATTACH;FMTTYPE=image/jpeg:https://cdn.cluj.com/ghidlocalcom/sites/2/2019/03/Concert-Direct%CC%A6ia-5-%40-Slavia-Salonta-.jpg
END:VEVENT
END:VCALENDAR