BEGIN:VCALENDAR
VERSION:2.0
PRODID:-//Oradea - ECPv5.1.1//NONSGML v1.0//EN
CALSCALE:GREGORIAN
METHOD:PUBLISH
X-WR-CALNAME:Oradea
X-ORIGINAL-URL:https://ghidlocal.com/oradea
X-WR-CALDESC:Events for Oradea
BEGIN:VTIMEZONE
TZID:Europe/Bucharest
BEGIN:DAYLIGHT
TZOFFSETFROM:+0200
TZOFFSETTO:+0300
TZNAME:EEST
DTSTART:20160327T010000
END:DAYLIGHT
BEGIN:STANDARD
TZOFFSETFROM:+0300
TZOFFSETTO:+0200
TZNAME:EET
DTSTART:20161030T010000
END:STANDARD
END:VTIMEZONE
BEGIN:VEVENT
DTSTART;TZID=Europe/Bucharest:20160916T210000
DTEND;TZID=Europe/Bucharest:20160916T230000
DTSTAMP:20260420T023645
CREATED:20160912T052504Z
LAST-MODIFIED:20160912T052504Z
UID:3233-1474059600-1474066800@ghidlocal.com
SUMMARY:Cheap Chaos în Moszkva Cafe
DESCRIPTION:Din nou muzica va răsuna în Moszkva Cafe! În data de 16 septembrie 2016\, începând cu ora 20:00\, va concerta trupa Cheap Chaos.\n„Cheap Chaos este o trupă formată din două artiste care cântă pentru simplul fapt că iubesc muzica și pentru propria satisfacție interioară. Repertoriul acestora este format\, în mare\, din melodii care abordează genuri precum: indie rock și rock clasic” – informații preluate de AICI. \nChitară: Timea Kőszegi\nVocal: Loretta Szatmári \nP.s. Dacă vremea este bună\, atunci concertul se va desfășura afară\, pe terasă. \nFii la curent cu evenimentele ce vor avea loc în Moszkva Cafe apăsând AICI. \n
URL:https://ghidlocal.com/oradea/eveniment/cheap-chaos-moszkva-cafe/
LOCATION:Moszkva Cafe\,  Str.Moscovei\, nr. 8\, Oradea\, Bihor\, România
CATEGORIES:Concerte
ATTACH;FMTTYPE=image/jpeg:https://cdn.cluj.com/ghidlocalcom/sites/2/2016/09/Cheap_chaos_Moszkva_Cafe_Oradea.jpg
ORGANIZER;CN="Moszkva%20Cafe":MAILTO:moszkvapr@gmail.com
END:VEVENT
END:VCALENDAR