BEGIN:VCALENDAR
VERSION:2.0
PRODID:-//Oradea - ECPv5.1.1//NONSGML v1.0//EN
CALSCALE:GREGORIAN
METHOD:PUBLISH
X-WR-CALNAME:Oradea
X-ORIGINAL-URL:https://ghidlocal.com/oradea
X-WR-CALDESC:Events for Oradea
BEGIN:VTIMEZONE
TZID:Europe/Bucharest
BEGIN:DAYLIGHT
TZOFFSETFROM:+0200
TZOFFSETTO:+0300
TZNAME:EEST
DTSTART:20160327T010000
END:DAYLIGHT
BEGIN:STANDARD
TZOFFSETFROM:+0300
TZOFFSETTO:+0200
TZNAME:EET
DTSTART:20161030T010000
END:STANDARD
END:VTIMEZONE
BEGIN:VEVENT
DTSTART;TZID=Europe/Bucharest:20161030T150000
DTEND;TZID=Europe/Bucharest:20161030T180000
DTSTAMP:20260420T121504
CREATED:20161027T093151Z
LAST-MODIFIED:20161027T093151Z
UID:4686-1477839600-1477850400@ghidlocal.com
SUMMARY:Ce înseamnă eliberarea pentru un devotat?
DESCRIPTION:Duminică\, 30 octombrie 2016\, în intervalul orar 15:00 – 18:00\, Asociația Culturală Hare Krisna Oradea ne invită la un eveniment intitulat: „Ce înseamnă eliberarea pentru un devotat?”\n„Prin serviciul făcut către Domnul Suprem Sri Krisna\, omul obține imediat o cunoaștere fără cauză și se îndepărtează de lume (SB 1.2.7)” – sursă text AICI. \nSediul Asociației Culturale Hare Krisna Oradea se află pe strada Emilian Mircea Chitul\, numărul 3. Pentru mai multe informații sunați la numărul de telefon: 0770 160 969 sau trimiteți un mesaj la adresa de e-mail: iskconoradea@gmail.com. \nInformații preluate e AICI. Vezi și pagina de facebook Hare Krisna Oradea apăsând AICI. \n  \n
URL:https://ghidlocal.com/oradea/eveniment/ce-inseamna-eliberarea-pentru-un-devotat/
LOCATION:Centrul Cultural Hare Krishna Oradea\, Str. Emilian Mircea Chitul\, nr. 3\, Oradea\, Bihor\, 410002\, România
CATEGORIES:Workshop
ATTACH;FMTTYPE=image/jpeg:https://cdn.cluj.com/ghidlocalcom/sites/2/2016/10/Ce_inseamna_eliberarea_pentru_un_devotat_hare_Krisna_Oradea.jpg
ORGANIZER;CN="Centrul%20Hare%20Krisna%20Oradea":MAILTO: iskconoradea@gmail.com
END:VEVENT
END:VCALENDAR