BEGIN:VCALENDAR
VERSION:2.0
PRODID:-//Oradea - ECPv5.1.1//NONSGML v1.0//EN
CALSCALE:GREGORIAN
METHOD:PUBLISH
X-WR-CALNAME:Oradea
X-ORIGINAL-URL:https://ghidlocal.com/oradea
X-WR-CALDESC:Events for Oradea
BEGIN:VTIMEZONE
TZID:Europe/Bucharest
BEGIN:DAYLIGHT
TZOFFSETFROM:+0200
TZOFFSETTO:+0300
TZNAME:EEST
DTSTART:20190331T010000
END:DAYLIGHT
BEGIN:STANDARD
TZOFFSETFROM:+0300
TZOFFSETTO:+0200
TZNAME:EET
DTSTART:20191027T010000
END:STANDARD
END:VTIMEZONE
BEGIN:VEVENT
DTSTART;TZID=Europe/Bucharest:20190316T190000
DTEND;TZID=Europe/Bucharest:20190316T220000
DTSTAMP:20260422T133212
CREATED:20190217T173350Z
LAST-MODIFIED:20190304T000015Z
UID:24624-1552762800-1552773600@ghidlocal.com
SUMMARY:Capcana lui Hamlet
DESCRIPTION:„Capcana lui Hamlet”\, este un text inspirat din piesa shakespeariană\, și prezintă o variantă diferită și îmbogățită a evenimentelor de la curtea castelului Elsinore\, centrată pe condiția artistului și scrisă cu un umor inspirat. Hamlet – prințul Danemarcei – pune la cale crearea unor împrejurări artificiale care reeditează crima înfăptuită asupra tatălui său\, iar pionii acestui plan de a demasca nelegiuirea săvârșită de Claudius\, actualul rege\, sunt actorii care tocmai au ajuns la castel. În paralel cu planul lui Hamlet\, se desfășoară\, însă\, un spectacol și între actorii trupei ambulate\, cu picanterii\, intrigi și bârfe ale lumii artistice. \n? Biletele s-au pus în vânzare la Agenţia de Bilete a Teatrului de marți până vineri în intervalul orar 12:00 – 18:00\, iar în weekend între orele 10:00 – 13:00. Puteţi achiziţiona bilete şi cu o oră înainte spectacol sau online pe www.biletmaster.ro. \nPentru informaţii suplimentare şi rezervări de bilete\, vă invităm să sunaţi la numărul de telefon: 0372/368.475. \nhttps://www.facebook.com/events/2300843493532586/ \n
URL:https://ghidlocal.com/oradea/eveniment/capcana-lui-hamlet-2/
LOCATION:Teatrul Regina Maria\, Teatrul Regina Maria
CATEGORIES:Teatru
ATTACH;FMTTYPE=image/jpeg:https://cdn.cluj.com/ghidlocalcom/sites/2/2019/02/Capcana-lui-Hamlet-.jpg
END:VEVENT
END:VCALENDAR