BEGIN:VCALENDAR
VERSION:2.0
PRODID:-//Oradea - ECPv5.1.1//NONSGML v1.0//EN
CALSCALE:GREGORIAN
METHOD:PUBLISH
X-WR-CALNAME:Oradea
X-ORIGINAL-URL:https://ghidlocal.com/oradea
X-WR-CALDESC:Events for Oradea
BEGIN:VTIMEZONE
TZID:Europe/Bucharest
BEGIN:DAYLIGHT
TZOFFSETFROM:+0200
TZOFFSETTO:+0300
TZNAME:EEST
DTSTART:20190331T010000
END:DAYLIGHT
BEGIN:STANDARD
TZOFFSETFROM:+0300
TZOFFSETTO:+0200
TZNAME:EET
DTSTART:20191027T010000
END:STANDARD
END:VTIMEZONE
BEGIN:VEVENT
DTSTART;TZID=Europe/Bucharest:20190315T200000
DTEND;TZID=Europe/Bucharest:20190315T220000
DTSTAMP:20260422T014901
CREATED:20190217T173350Z
LAST-MODIFIED:20190304T000216Z
UID:24622-1552680000-1552687200@ghidlocal.com
SUMMARY:Bucium Live in Oradea
DESCRIPTION:Albumele Bucium sunt conceptuale\, îmbinând legendele și basmele românești cu o muzică introspectivă\, spirituală\, adusă într-o notă contemporană. \nhttps://www.facebook.com/events/304644353525344/ \n
URL:https://ghidlocal.com/oradea/eveniment/bucium-live-in-oradea/
LOCATION:Moszkva Kávézó\, Moszkva Kávézó
CATEGORIES:Concerte
ATTACH;FMTTYPE=image/jpeg:https://cdn.cluj.com/ghidlocalcom/sites/2/2019/02/Bucium-Live-in-Oradea-.jpg
END:VEVENT
END:VCALENDAR