BEGIN:VCALENDAR
VERSION:2.0
PRODID:-//Oradea - ECPv5.1.1//NONSGML v1.0//EN
CALSCALE:GREGORIAN
METHOD:PUBLISH
X-WR-CALNAME:Oradea
X-ORIGINAL-URL:https://ghidlocal.com/oradea
X-WR-CALDESC:Events for Oradea
BEGIN:VTIMEZONE
TZID:Europe/Bucharest
BEGIN:DAYLIGHT
TZOFFSETFROM:+0200
TZOFFSETTO:+0300
TZNAME:EEST
DTSTART:20170326T010000
END:DAYLIGHT
BEGIN:STANDARD
TZOFFSETFROM:+0300
TZOFFSETTO:+0200
TZNAME:EET
DTSTART:20171029T010000
END:STANDARD
END:VTIMEZONE
BEGIN:VEVENT
DTSTART;TZID=Europe/Bucharest:20170315T184500
DTEND;TZID=Europe/Bucharest:20170315T210000
DTSTAMP:20260420T104516
CREATED:20170315T083520Z
LAST-MODIFIED:20170315T083520Z
UID:8086-1489603500-1489611600@ghidlocal.com
SUMMARY:Baschet: BCM U Pitești vs CSM CSU Oradea
DESCRIPTION:Cea de-a 26-a etapă este pe cale să aibă loc. Miercuri\, 15 martie 2017\, echipele BCM U Pitești și CSM CSU Oradea vor juca\, începând cu ora 18:45.\nVezi și pagina de facebook a evenimentului BCM U Pitești vs CSM CSU Oradea. \n
URL:https://ghidlocal.com/oradea/eveniment/baschet-bcm-u-pitesti-vs-csm-csu-oradea/
LOCATION:STEAM Bar\, Pasajul Vulturul Negru\, Oradea\, Bihor\, 410072\, România
CATEGORIES:Sport
ATTACH;FMTTYPE=image/jpeg:https://cdn.cluj.com/ghidlocalcom/sites/2/2017/03/bcm-u-pitesti-vs-csm-csu-orada.jpg
ORGANIZER;CN="STEAM%20Bar":MAILTO:contact@steambar.ro
END:VEVENT
END:VCALENDAR