BEGIN:VCALENDAR
VERSION:2.0
PRODID:-//Oradea - ECPv5.1.1//NONSGML v1.0//EN
CALSCALE:GREGORIAN
METHOD:PUBLISH
X-WR-CALNAME:Oradea
X-ORIGINAL-URL:https://ghidlocal.com/oradea
X-WR-CALDESC:Events for Oradea
BEGIN:VTIMEZONE
TZID:Europe/Bucharest
BEGIN:DAYLIGHT
TZOFFSETFROM:+0200
TZOFFSETTO:+0300
TZNAME:EEST
DTSTART:20160327T010000
END:DAYLIGHT
BEGIN:STANDARD
TZOFFSETFROM:+0300
TZOFFSETTO:+0200
TZNAME:EET
DTSTART:20161030T010000
END:STANDARD
END:VTIMEZONE
BEGIN:VEVENT
DTSTART;TZID=Europe/Bucharest:20161124T183000
DTEND;TZID=Europe/Bucharest:20161124T210000
DTSTAMP:20260422T183358
CREATED:20161121T142912Z
LAST-MODIFIED:20161121T142912Z
UID:5449-1480012200-1480021200@ghidlocal.com
SUMMARY:Azi vinul face legea. Legea lui Murphy!
DESCRIPTION:Joi\, 24 noiembrie\, ora 18:30\, Rewine Bar găzduiește evenimentul: Azi vinul face legea. Legea lui Murphy!\nTot ce este bun este imoral\, ilegal sau îngrașă\, spune o lege a lui Murphy. Si totuși\, joi\, împreună cu Șerban Borda\, dorim să vă dovedim contrariul! V-am pregătit vinuri bune\, gustări delicioase și multă bună dispoziție prin teatru. \nMeniu vinuri: \n\nSpumant Cava Rigol\nAlceno Sauvignon Blanc\nBodegas Bleda Pinot Doncel\n\nFinger food: \n\nCrostini cu ricotta\, castravete și ierburi aromate\nCrostini cu ricotta\, căpșuni și oțet balsamic\nCrostini cu ricotta și somon fume\n\nRezervări telefonice la 0772 277 777. Taxa de participare: 75lei /persoană. Pentru acest eveniment locurile sunt limitate. \n
URL:https://ghidlocal.com/oradea/eveniment/azi-vinul-face-legea-legea-lui-murphy/
LOCATION:ReWine Bar\, Str. Republicii\, Nr. 31\, Oradea-Mare\, 410033\, Romania
CATEGORIES:Teatru
ATTACH;FMTTYPE=image/jpeg:https://cdn.cluj.com/ghidlocalcom/sites/2/2016/11/rewine.jpg
END:VEVENT
END:VCALENDAR