BEGIN:VCALENDAR
VERSION:2.0
PRODID:-//Oradea - ECPv5.1.1//NONSGML v1.0//EN
CALSCALE:GREGORIAN
METHOD:PUBLISH
X-WR-CALNAME:Oradea
X-ORIGINAL-URL:https://ghidlocal.com/oradea
X-WR-CALDESC:Events for Oradea
BEGIN:VTIMEZONE
TZID:Europe/Bucharest
BEGIN:DAYLIGHT
TZOFFSETFROM:+0200
TZOFFSETTO:+0300
TZNAME:EEST
DTSTART:20190331T010000
END:DAYLIGHT
BEGIN:STANDARD
TZOFFSETFROM:+0300
TZOFFSETTO:+0200
TZNAME:EET
DTSTART:20191027T010000
END:STANDARD
END:VTIMEZONE
BEGIN:VEVENT
DTSTART;TZID=Europe/Bucharest:20190206T170000
DTEND;TZID=Europe/Bucharest:20190206T183000
DTSTAMP:20260421T105326
CREATED:20190130T115430Z
LAST-MODIFIED:20190130T115430Z
UID:24469-1549472400-1549477800@ghidlocal.com
SUMMARY:Avalanșa
DESCRIPTION:Avalanșa este o poveste despre frică\, dar și despre trecut și viitor\, tradiția conservatoare și schimbarea mentalităților. Tuncer Cücenoğlu a imaginat o istorie anxioasă și simbolică: într-o comunitate cu reguli stricte o persoană poate fi ucisă dacă pune în pericol viața celorlalți. Legea după care moartea este evitată prin moarte provoacă alte întrebări: despre morala socială\, despre încremenirea în tradiție\, despre aspirația spre o viață liberă și neconstrânsă. Așa e intriga aici\, dar tema poate reverbera mult mai departe\, chiar spre realitățile convulsive ale civilizației de azi… \nDistribuția: \nBătrânul – Petre GhimbășanBătrâna – Corina CerneaTânăra – Consuela EgyedTânărul – Ciprian CiuciuBărbatul – Șerban BordaFemeia – Gabriela Codrea Moaşa – Mirela LupuPreşedintele Comitetului – Andrian LocoveiMembră a Comitetului – Anca SigmireanMembru al Comitetului – Segărceanu NicolaeFantoma fetei moarte – Georgia CăprărinFantoma fratelui bătrânului – Alin StanciuGardian 1 – Ion RuscuțGardian 2 – Cristian Segărceanu \nTraducerea: Nermin Hogea SusamDramaturgia: Claudiu Groza \nRegia artistică: Petru VutcărăuAsistent regie: Elvira RîmbuCostume: Amalia BuieDecor: Ianis VasilatosSonorizare: Sergiu Domide\, Sorin DomideLumini: Sorin Precup\, Attila Nagy \n* Spectacol nerecomandat persoanelor sub 15+ ani! \nBiletele s-au pus deja în vânzare și pot fi achiziționate de la Agenția Teatrului de marți până vineri în intervalul orar 12:00 – 18:00\, iar în weekend între orele 10:00-13:00. Puteţi achiziţiona bilete şi cu o oră înainte spectacol sau online pe www.biletmaster.ro.  \nPentru informaţii suplimentare şi rezervări de bilete\, vă invităm să sunaţi la numărul de telefon: 0372/368.475 \nhttps://www.facebook.com/events/577471859351014/?event_time_id=596323774132489 \n
URL:https://ghidlocal.com/oradea/eveniment/avalansa/
LOCATION:Teatrul Regina Maria\, Teatrul Regina Maria
END:VEVENT
END:VCALENDAR