BEGIN:VCALENDAR
VERSION:2.0
PRODID:-//Oradea - ECPv5.1.1//NONSGML v1.0//EN
CALSCALE:GREGORIAN
METHOD:PUBLISH
X-WR-CALNAME:Oradea
X-ORIGINAL-URL:https://ghidlocal.com/oradea
X-WR-CALDESC:Events for Oradea
BEGIN:VTIMEZONE
TZID:Europe/Bucharest
BEGIN:DAYLIGHT
TZOFFSETFROM:+0200
TZOFFSETTO:+0300
TZNAME:EEST
DTSTART:20190331T010000
END:DAYLIGHT
BEGIN:STANDARD
TZOFFSETFROM:+0300
TZOFFSETTO:+0200
TZNAME:EET
DTSTART:20191027T010000
END:STANDARD
END:VTIMEZONE
BEGIN:VEVENT
DTSTART;TZID=Europe/Bucharest:20190423T190000
DTEND;TZID=Europe/Bucharest:20190423T210000
DTSTAMP:20260424T102458
CREATED:20190414T120947Z
LAST-MODIFIED:20190414T123402Z
UID:25226-1556046000-1556053200@ghidlocal.com
SUMMARY:Autobahn de Neil LaBute
DESCRIPTION:Distribuția:\nO femeie – Ioana Cheregi\nUn bărbat – Andrei Stan \nRegizor\, scenarist\, dramaturg american\, Neil LaBute dezvoltă în ”Autobahn” personaje pe care le putem regăsi pe străzile oricărui oraș din lumea de astăzi.\nSpectacolul nostru propune o călătorie în interiorul unui cuplu care pleacă la ”drum” printr-un ”accident”. În limitele fizice ale unui automobil\, conflictele se întind pe întreaga gamă de emoții care pot apărea între două persoane.\nPatru instantanee tragicomice din viața unui cuplu care într-un moment crucial al relației derulează amintiri\, gonind cu viteză pe autostradă\, izolați în ”bula lor de sticlă și metal”.\nÎn mașină ești constrâns să asculți dar poți să și constrângi să fii ascultat. Într-un spațiu închis\, așa cum este cel al unui automobil\, adevărul nu mai poate scăpa și mărturisirile\, unele șocante\, se fac până la capăt. (Laura Moldovan\, regizor) \nSpectacol realizat cu sprijinul Teatrului de Nord Satu Mare.\nMulțumiri domnului Neil N. LaBute. \nAcest spectacol nu este recomandat persoanelor sub 16 ani. \nSuport artist: 20 lei\nInformații și rezervări la nr. tel.: 0722881086 (Toni Nica)\nsau lăsați un comentariu pe pagina evenimentului. \nhttps://www.facebook.com/events/423426741758505/ \n
URL:https://ghidlocal.com/oradea/eveniment/autobahn-de-neil-labute-2/
LOCATION:Studio Act\, Studio Act
CATEGORIES:Teatru
ATTACH;FMTTYPE=image/jpeg:https://cdn.cluj.com/ghidlocalcom/sites/2/2019/04/Autobahn-de-Neil-LaBute-.jpg
END:VEVENT
END:VCALENDAR