BEGIN:VCALENDAR
VERSION:2.0
PRODID:-//Oradea - ECPv5.1.1//NONSGML v1.0//EN
CALSCALE:GREGORIAN
METHOD:PUBLISH
X-WR-CALNAME:Oradea
X-ORIGINAL-URL:https://ghidlocal.com/oradea
X-WR-CALDESC:Events for Oradea
BEGIN:VTIMEZONE
TZID:Europe/Bucharest
BEGIN:DAYLIGHT
TZOFFSETFROM:+0200
TZOFFSETTO:+0300
TZNAME:EEST
DTSTART:20190331T010000
END:DAYLIGHT
BEGIN:STANDARD
TZOFFSETFROM:+0300
TZOFFSETTO:+0200
TZNAME:EET
DTSTART:20191027T010000
END:STANDARD
END:VTIMEZONE
BEGIN:VEVENT
DTSTART;TZID=Europe/Bucharest:20190314T170000
DTEND;TZID=Europe/Bucharest:20190314T190000
DTSTAMP:20260421T170630
CREATED:20190311T064432Z
LAST-MODIFIED:20190311T070335Z
UID:24852-1552582800-1552590000@ghidlocal.com
SUMMARY:Ateliere de actorie pentru copii
DESCRIPTION:Cursul de actorie pentru copii se desfășoară pe baza unui concept educațional care implică o metodă de abordare a disciplinei prin interacțiune directă\, în mod liber și deschis\, oferind o programă care să țină cont de gradul de dezvoltare al fiecărui participant în funcție de vârstă și anumite necesități legate de evoluția vorbirii\, a mobilității fizice și psihice\, a capacității de socializare\, de autocunoaștere\, de integrare\, de conștientizare a deprinderilor greșite și eliminarea lor treptată (de ex.: gesturi necontrolate\, răsfățul exagerat\, vorbirea nedisciplinată și prea tare etc.). \nPentru grupele cu vârste cuprinse între 5 – 7 ani aceste module de lucru\, sub o atentă îndrumare din partea unui personal specializat în arta actorului\, vor lua forma unor exerciții de improvizație și jocuri specifice\, prin care urmărim: \n-Dezvoltarea imaginației\n-Dezvoltarea simțului de observație asupra spațiului înconjurător\n-Conștientizarea și dezvoltarea simțurilor și a memoriei\n-Înțelegerea conduitei sociale\n-Deprinderea alfabetului pronunțat corect pentru o dicție potrivită spațiului scenic etc. \nPropunem o înlăturare a dorinței de a căuta efectul de scenă în favoarea procesului de dezvoltare a aptitudinilor. De aceea vom miza mai mult pe exersarea unor momente din povestiri celebre și din poezii și fabule sub forma unor spectacole-colaj\, decât pe montarea propriu-zisă a unei piese integrale\, pentru a elimina pericolul mecanicizării în avantajul înțelegerii și a asumării personajelor conform etapelor de dezvoltare ale participanților. \nIntenționăm să punem în valoare personalitatea fiecărui copil\, să-i descoperim aptitudinile și să le folosim împreună în mod artistic\, aducând-ne astfel contribuția la educația celor mici într-un cadru familiar\, informal\, creativ\, cu multă bună dispoziție\, jocuri și armonie\, dar și responsabilitate și profesionalism. \nInformații suplimentare la nr de tel 0740 308 321. \nhttps://www.facebook.com/events/319649638758353/?event_time_id=319649698758347 \n
URL:https://ghidlocal.com/oradea/eveniment/ateliere-de-actorie-pentru-copii/
LOCATION:Experiment Teatru Clandestin\, Experiment Teatru Clandestin
CATEGORIES:Educatie
ATTACH;FMTTYPE=image/jpeg:https://cdn.cluj.com/ghidlocalcom/sites/2/2019/03/Ateliere-de-actorie-pentru-copii-.jpg
END:VEVENT
END:VCALENDAR