BEGIN:VCALENDAR
VERSION:2.0
PRODID:-//Oradea - ECPv5.1.1//NONSGML v1.0//EN
CALSCALE:GREGORIAN
METHOD:PUBLISH
X-WR-CALNAME:Oradea
X-ORIGINAL-URL:https://ghidlocal.com/oradea
X-WR-CALDESC:Events for Oradea
BEGIN:VTIMEZONE
TZID:Europe/Bucharest
BEGIN:DAYLIGHT
TZOFFSETFROM:+0200
TZOFFSETTO:+0300
TZNAME:EEST
DTSTART:20160327T010000
END:DAYLIGHT
BEGIN:STANDARD
TZOFFSETFROM:+0300
TZOFFSETTO:+0200
TZNAME:EET
DTSTART:20161030T010000
END:STANDARD
END:VTIMEZONE
BEGIN:VEVENT
DTSTART;TZID=Europe/Bucharest:20160909T180000
DTEND;TZID=Europe/Bucharest:20160909T220000
DTSTAMP:20260423T010156
CREATED:20160830T064406Z
LAST-MODIFIED:20160830T064422Z
UID:3028-1473444000-1473458400@ghidlocal.com
SUMMARY:Atelier pentru inimi
DESCRIPTION:Vineri\, 9 septembrie 2016\, începând cu ora 17:00\, va avea loc un Atelier pentru inimi.\nProgramul Atelierului pentru inimi este următorul: \n17:00 – 18:30 – Expoziție de intrumente arhaice de suflat – Fero Egyed\n17:00 – 18:30 – Vernisaj de pictură – Evelina Noane\n17:30 – 18:30 – Seminar – Implicațiile media asupra copiilor – Natalia Iosif\n19:00 – 21:00 – Concert Not an Idol si Dan Leș \nOrganizatori\nBiserica Logos\ndecenu.eu \nParteneri\nPrimaria Municipiului Oradea\nSIS Events \n
URL:https://ghidlocal.com/oradea/eveniment/atelier-pentru-inimi/
LOCATION:Cetatea din Oradea\, Str. Griviței\, Oradea\, Bihor\, România
CATEGORIES:Workshop
ATTACH;FMTTYPE=image/jpeg:https://cdn.cluj.com/ghidlocalcom/sites/2/2016/08/Atelier_pentru_inimi_9_septembrie_2016_si_concert_Not_an_Idol_Oradea.jpg
ORGANIZER;CN="Biserica%20Logos%20Oradea":MAILTO:contact@logosoradea.ro
END:VEVENT
END:VCALENDAR