BEGIN:VCALENDAR
VERSION:2.0
PRODID:-//Oradea - ECPv5.1.1//NONSGML v1.0//EN
CALSCALE:GREGORIAN
METHOD:PUBLISH
X-WR-CALNAME:Oradea
X-ORIGINAL-URL:https://ghidlocal.com/oradea
X-WR-CALDESC:Events for Oradea
BEGIN:VTIMEZONE
TZID:Europe/Bucharest
BEGIN:DAYLIGHT
TZOFFSETFROM:+0200
TZOFFSETTO:+0300
TZNAME:EEST
DTSTART:20170326T010000
END:DAYLIGHT
BEGIN:STANDARD
TZOFFSETFROM:+0300
TZOFFSETTO:+0200
TZNAME:EET
DTSTART:20171029T010000
END:STANDARD
END:VTIMEZONE
BEGIN:VEVENT
DTSTART;TZID=Europe/Bucharest:20170607T200000
DTEND;TZID=Europe/Bucharest:20170607T220000
DTSTAMP:20260421T153024
CREATED:20170602T081540Z
LAST-MODIFIED:20170607T071942Z
UID:12741-1496865600-1496872800@ghidlocal.com
SUMMARY:Atelier de pictură
DESCRIPTION:În cadrul atelierului de pictură poți picta un basorelief care reproduce simboluri din civilizațiile aztece\, egiptene\, grecești sau romane. Se utilizează tehnica picturii în ulei\, iar participanții pot fi și începători. \n
URL:https://ghidlocal.com/oradea/eveniment/atelier-de-pictura-9/
LOCATION:Noua Acropola Oradea\, Bv. Republicii\, nr. 64 (zona Gării)\, Oradea-Mare\, 410147\, Romania
CATEGORIES:Cultural
ATTACH;FMTTYPE=image/jpeg:https://cdn.cluj.com/ghidlocalcom/sites/2/2017/06/b298069c95de3ac8926348737e74a892.jpg
END:VEVENT
END:VCALENDAR