BEGIN:VCALENDAR
VERSION:2.0
PRODID:-//Oradea - ECPv5.1.1//NONSGML v1.0//EN
CALSCALE:GREGORIAN
METHOD:PUBLISH
X-WR-CALNAME:Oradea
X-ORIGINAL-URL:https://ghidlocal.com/oradea
X-WR-CALDESC:Events for Oradea
BEGIN:VTIMEZONE
TZID:Europe/Bucharest
BEGIN:DAYLIGHT
TZOFFSETFROM:+0200
TZOFFSETTO:+0300
TZNAME:EEST
DTSTART:20180325T010000
END:DAYLIGHT
BEGIN:STANDARD
TZOFFSETFROM:+0300
TZOFFSETTO:+0200
TZNAME:EET
DTSTART:20181028T010000
END:STANDARD
END:VTIMEZONE
BEGIN:VEVENT
DTSTART;TZID=Europe/Bucharest:20180728T070000
DTEND;TZID=Europe/Bucharest:20180729T200000
DTSTAMP:20260420T070415
CREATED:20180726T084751Z
LAST-MODIFIED:20180726T085016Z
UID:22772-1532761200-1532894400@ghidlocal.com
SUMMARY:Aqua Fun Weekend la Ștrand Apollo-Felix
DESCRIPTION:Aqua Fun Weekend la Ștrand Apollo-Felix\nȘtim că o ieșire la piscină poate să însemne mai mult decât bălăceală și bronz. De aceea la Ștrandul Apollo-Felix vă așteptăm în fiecare weekend cu atmosferă de petrecere\, AquaZumba\, jocuri amuzante pentru adulți\, competiții sportive și activități interesante pentru copii.\nSâmbătă 21 Iulie\nora 12:00 Cupa Felix la fotbal și volei\nora 12:30 AquaZumba cu Ilaria Team\nora 13:30-15:30 Jocuri și activități pentru copii cu Prietenii Veseliei\nora 16:00-18:00 Jocuri amuzante pentru adulți \nDuminică 22 Iulie\nora 12:00 Cupa Felix la fotbal și volei\nora 12:30 AquaZumba cu Ilaria Team\nora 13:30-15:30 Jocuri și activități pentru copii cu Prietenii Veselie\nora 16:00-18:00 Jocuri amuzante pentru adulți \nSâmbătă 28 Iulie\nora 12:00 Cupa Felix la fotbal și volei\nora 12:30 AquaZumba cu Ilaria Team\nora 13:30-15:30 Jocuri și activități pentru copii cu Prietenii Veseliei\nora 16:00-18:00 Jocuri amuzante pentru adulți \nDuminică 29 Iulie\nora 12:00 Cupa Felix la fotbal și volei\nora 12:30 AquaZumba cu Ilaria Team\nora 13:30-15:30 Jocuri și activități pentru copii cu Prietenii Veseliei\nora 16:00-18:00 Jocuri amuzante pentru adulți \nTarife acces/zi/persoană (valabile o singură intrare):\nCopii sub 4 ani – Gratuit\nCopii până la 12 ani – 15 lei\nAdulți – 30 lei \nOrar Ștrand Apollo-Felix:\nLuni: 8.00-19.00\nMarți-Vineri: 8.00-20.00\nSâmbătă-Duminică: 7.00-20.00 \n
URL:https://ghidlocal.com/oradea/eveniment/aqua-fun-weekend-la-strand-apollo-felix/
LOCATION:Ștrand Apollo-Felix\, Baile Felix\, 417500 Baile Felix\, Bihor\, Oradea
CATEGORIES:Divertisment,Sport
ATTACH;FMTTYPE=image/jpeg:https://cdn.cluj.com/ghidlocalcom/sites/2/2018/07/Aqua-Fun.jpg
END:VEVENT
END:VCALENDAR