BEGIN:VCALENDAR
VERSION:2.0
PRODID:-//Oradea - ECPv5.1.1//NONSGML v1.0//EN
CALSCALE:GREGORIAN
METHOD:PUBLISH
X-WR-CALNAME:Oradea
X-ORIGINAL-URL:https://ghidlocal.com/oradea
X-WR-CALDESC:Events for Oradea
BEGIN:VTIMEZONE
TZID:Europe/Bucharest
BEGIN:DAYLIGHT
TZOFFSETFROM:+0200
TZOFFSETTO:+0300
TZNAME:EEST
DTSTART:20160327T010000
END:DAYLIGHT
BEGIN:STANDARD
TZOFFSETFROM:+0300
TZOFFSETTO:+0200
TZNAME:EET
DTSTART:20161030T010000
END:STANDARD
END:VTIMEZONE
BEGIN:VEVENT
DTSTART;TZID=Europe/Bucharest:20161028T210000
DTEND;TZID=Europe/Bucharest:20161029T000000
DTSTAMP:20260422T202219
CREATED:20161027T090750Z
LAST-MODIFIED:20161027T090750Z
UID:4682-1477688400-1477699200@ghidlocal.com
SUMMARY:AperiFILM: La Strada (Federico Fellini\, 1954)
DESCRIPTION:Orice cinefil care se respectă a auzit măcar de numele lui Fellini\, unul dintre cei mai profilici și plini de fantezie cineaști pe care i-a născut umanitatea până acum\, cu o apetență deosebită pentru lumea circului\, pentru atmosfera carnavalescă\, pentru spectacolul absurd și burlesc care este\, în definitv\, viața.\nLa Strada (1954)\, de Federico Fellini\, este un road movie care surprinde pulsul traiului într-o Italie care încă resimte rănile adânci ale războiului\, prin prisma unui artist de stradă ambulant care cumpără\, de la familia ei\, o tânără care să-l însoțească și să-i completeze reprezentațiile. Un film în care se întâlnesc și interacționează caractere arhetipale puternice\, dar extrem de diferite\, ceea ce naște conflicte uneori foarte violente\, însă pe care le privește cu multă candoare\, dintr-un adânc respect față de bogăția ființei umane. \n20:00 – La Strada\, în italiană cu subtitrări în română\, ne plimbă cu el 108 minute. \n\nInformații preluate de AICI. \n
URL:https://ghidlocal.com/oradea/eveniment/aperifilm-la-strada-federico-fellini-1954/
LOCATION:Cetatea din Oradea\, Str. Griviței\, Oradea\, Bihor\, România
CATEGORIES:Film
ATTACH;FMTTYPE=image/jpeg:https://cdn.cluj.com/ghidlocalcom/sites/2/2016/10/AperiFILM_La_Strada_Federico_Fellini_1954_Cetatea_Orade_Kinopedia.jpg
END:VEVENT
END:VCALENDAR