BEGIN:VCALENDAR
VERSION:2.0
PRODID:-//Oradea - ECPv5.1.1//NONSGML v1.0//EN
CALSCALE:GREGORIAN
METHOD:PUBLISH
X-WR-CALNAME:Oradea
X-ORIGINAL-URL:https://ghidlocal.com/oradea
X-WR-CALDESC:Events for Oradea
BEGIN:VTIMEZONE
TZID:Europe/Bucharest
BEGIN:DAYLIGHT
TZOFFSETFROM:+0200
TZOFFSETTO:+0300
TZNAME:EEST
DTSTART:20190331T010000
END:DAYLIGHT
BEGIN:STANDARD
TZOFFSETFROM:+0300
TZOFFSETTO:+0200
TZNAME:EET
DTSTART:20191027T010000
END:STANDARD
END:VTIMEZONE
BEGIN:VEVENT
DTSTART;TZID=Europe/Bucharest:20190501T120000
DTEND;TZID=Europe/Bucharest:20190501T150000
DTSTAMP:20260424T184045
CREATED:20190520T104225Z
LAST-MODIFIED:20190520T104225Z
UID:25492-1556712000-1556722800@ghidlocal.com
SUMMARY:A.P. Csehov: Meggyeskert | HolnapUtán Fesztivál
DESCRIPTION:⚠️A helyek száma korlátozott⚠️A VII. HolnapUtán Fesztivál programjában \n„A Meggyeskert a Színház- és Filmművészeti Egyetem negyedéves zenés színész osztályának (osztályfőnökeik Novák Eszter és Selmeczi György) vizsgaelőadása. Nagy létszámú osztály az övék\, tizenheten vannak\, 9:8 arányban a fiúk javára. Bár a dráma szereplői alig vannak kevesebben\, a szerepek eltérő súlya miatt a színművészeti képzésben bevett módszer szerint némelyik karaktert itt is egymást váltva\, többen játsszák. És mivel zenés osztályról van szó\, a közös éneklés mellett többen megmutatkozhatnak egy-egy dallal is. Az előadás legfőbb jellegzetessége azonban az\, hogy a nézők és a színészek keverednek a térben és kavarognak a terek között. Nem egy teremben zajlik ugyanis a játék (…) mi pedig nem egyszer-kétszer\, hanem folyamatosan\, jelenetről jelenetre vándoroltunk ide-oda\, miközben a tereket átrendezték. Ez azonban általában csak a székek átrendezését jelenti\, hiszen más díszletelem nincs. A székek pedig fogynak. Eleinte csak egymásba teszik őket\, mint költözéskor. Ranyevszkaja még orosz szokás szerint leülhet egyre indulás előtt\, aztán az utolsó két jelenetre eltűnnek teljesen. Ahogy az otthon is a család életéből.” (Turbuly Lilla) \nJátsszák a Színház- és Filmművészeti Egyetem hallgatói: Borsi-Balogh Máté\, Bori Réka\, Brasch Bence\, Czvikker Lilla\, Fáncsik Roland\, Fekete Gábor\, Hajdu Péter István\, Hunyadi Máté\, Imre Krisztián\, Jenővári Miklós\, Józsa Bettina\, Kurucz Dániel\, Ladányi Júlia\, Litauszky Lilla\, Mentes Júlia\, Nagy-Bakonyi Boglárka\, Széles Flóra. \nRendezte: Zsótér SándorIdőtartam: 2h szünet nélkül \nhttps://www.facebook.com/events/2916952838330006/ \n
URL:https://ghidlocal.com/oradea/eveniment/a-p-csehov-meggyeskert-holnaputan-fesztival/
LOCATION:Szigligeti Studio\, Szigligeti Studio
END:VEVENT
END:VCALENDAR