BEGIN:VCALENDAR
VERSION:2.0
PRODID:-//Oradea - ECPv5.1.1//NONSGML v1.0//EN
CALSCALE:GREGORIAN
METHOD:PUBLISH
X-WR-CALNAME:Oradea
X-ORIGINAL-URL:https://ghidlocal.com/oradea
X-WR-CALDESC:Events for Oradea
BEGIN:VTIMEZONE
TZID:Europe/Bucharest
BEGIN:DAYLIGHT
TZOFFSETFROM:+0200
TZOFFSETTO:+0300
TZNAME:EEST
DTSTART:20190331T010000
END:DAYLIGHT
BEGIN:STANDARD
TZOFFSETFROM:+0300
TZOFFSETTO:+0200
TZNAME:EET
DTSTART:20191027T010000
END:STANDARD
END:VTIMEZONE
BEGIN:VEVENT
DTSTART;TZID=Europe/Bucharest:20190308T200000
DTEND;TZID=Europe/Bucharest:20190309T030000
DTSTAMP:20260421T040958
CREATED:20190217T173349Z
LAST-MODIFIED:20190304T063036Z
UID:24616-1552075200-1552100400@ghidlocal.com
SUMMARY:8 Martie
DESCRIPTION:Ambasador Oradea a pregatit pentru frumoasa zi de 8 Martie un eveniment de exceptie!\nVa invitam sa traim alaturi de Antonia si Partydul Kiss Fm\, o noapte magica\, intr-o atmosfera fantastica\, plina de emotii si amintiri dragi. Meniul pregatit de chefii Ambasador va completa o seara rafinata\, intr-un ambient unic.\nProgramul pentru seara specială de 8 Martie va începe la ora 20:00\nRezervări la numărul de telefon 0741-222-000\nTermenul limită 6 Martie ora 18:00\nPrețul unui meniu este de 150 lei si va include 4 feluri de preparate delicioase pregătite de chefii Ambasador.\nMai multe informatii pe: www.ambasadororadea.ro \nhttps://www.facebook.com/events/2121387201261532/ \n
URL:https://ghidlocal.com/oradea/eveniment/8-martie/
LOCATION:Ambasador Oradea\, Ambasador Oradea
CATEGORIES:Concerte
ATTACH;FMTTYPE=image/jpeg:https://cdn.cluj.com/ghidlocalcom/sites/2/2019/02/8-Martie.jpg
END:VEVENT
END:VCALENDAR