BEGIN:VCALENDAR
VERSION:2.0
PRODID:-//Oradea - ECPv5.1.1//NONSGML v1.0//EN
CALSCALE:GREGORIAN
METHOD:PUBLISH
X-WR-CALNAME:Oradea
X-ORIGINAL-URL:https://ghidlocal.com/oradea
X-WR-CALDESC:Events for Oradea
BEGIN:VTIMEZONE
TZID:Europe/Bucharest
BEGIN:DAYLIGHT
TZOFFSETFROM:+0200
TZOFFSETTO:+0300
TZNAME:EEST
DTSTART:20180325T010000
END:DAYLIGHT
BEGIN:STANDARD
TZOFFSETFROM:+0300
TZOFFSETTO:+0200
TZNAME:EET
DTSTART:20181028T010000
END:STANDARD
END:VTIMEZONE
BEGIN:VEVENT
DTSTART;TZID=Europe/Bucharest:20180727T060000
DTEND;TZID=Europe/Bucharest:20180727T210000
DTSTAMP:20260420T084856
CREATED:20180725T112156Z
LAST-MODIFIED:20180725T112156Z
UID:22731-1532671200-1532725200@ghidlocal.com
SUMMARY:20% reducere la toate cărțile
DESCRIPTION:Librăria Humanitas Oradea vă invită vineri\, 27 iulie\, în intervalul orar 18.00-21.00\, la o seară specială în care veți putea beneficia de 20% reducere la toate cărțile din librărie\, inclusiv la noutăți și bestseller-uri. \n
URL:https://ghidlocal.com/oradea/eveniment/20-reducere-la-toate-cartile/
LOCATION:Librăria Humanitas Oradea\, Republicii nr. 11\, Oradea-Mare\, oradeA\, Romania
ATTACH;FMTTYPE=image/jpeg:https://cdn.cluj.com/ghidlocalcom/sites/2/2018/07/20-reducere-la-toate-c%C4%83r%C8%9Bile.jpg
END:VEVENT
END:VCALENDAR